BEGIN:VCALENDAR
VERSION:2.0
PRODID:-//Jyv&auml;skyl&auml;n fyysikkokerho ry - ECPv6.15.20//NONSGML v1.0//EN
CALSCALE:GREGORIAN
METHOD:PUBLISH
X-WR-CALNAME:Jyv&auml;skyl&auml;n fyysikkokerho ry
X-ORIGINAL-URL:https://www.jyfk.fi/en
X-WR-CALDESC:Events for Jyv&auml;skyl&auml;n fyysikkokerho ry
REFRESH-INTERVAL;VALUE=DURATION:PT1H
X-Robots-Tag:noindex
X-PUBLISHED-TTL:PT1H
BEGIN:VTIMEZONE
TZID:Europe/Helsinki
BEGIN:DAYLIGHT
TZOFFSETFROM:+0200
TZOFFSETTO:+0300
TZNAME:EEST
DTSTART:20240331T010000
END:DAYLIGHT
BEGIN:STANDARD
TZOFFSETFROM:+0300
TZOFFSETTO:+0200
TZNAME:EET
DTSTART:20241027T010000
END:STANDARD
BEGIN:DAYLIGHT
TZOFFSETFROM:+0200
TZOFFSETTO:+0300
TZNAME:EEST
DTSTART:20250330T010000
END:DAYLIGHT
BEGIN:STANDARD
TZOFFSETFROM:+0300
TZOFFSETTO:+0200
TZNAME:EET
DTSTART:20251026T010000
END:STANDARD
BEGIN:DAYLIGHT
TZOFFSETFROM:+0200
TZOFFSETTO:+0300
TZNAME:EEST
DTSTART:20260329T010000
END:DAYLIGHT
BEGIN:STANDARD
TZOFFSETFROM:+0300
TZOFFSETTO:+0200
TZNAME:EET
DTSTART:20261025T010000
END:STANDARD
END:VTIMEZONE
BEGIN:VEVENT
DTSTART;TZID=Europe/Helsinki:20250112T110000
DTEND;TZID=Europe/Helsinki:20250112T120000
DTSTAMP:20260423T021626
CREATED:20250108T130157Z
LAST-MODIFIED:20250108T130157Z
UID:1681-1736679600-1736683200@www.jyfk.fi
SUMMARY:Liikuntavuoro // Sports shift
DESCRIPTION:In English below \nFyysikkokerhon liikuntavuorot lähtevät käyntiin jälleen! Liikunnan U2-sali on varattu Fyysikkokerhon jäsenille sunnuntaisin klo 11 – 12 syyskuun 15. päivästä aina 1. kesäkuuta asti. (Poikkeuksista ilmoitetaan nettisivuilla ja Telegram-ryhmässä) \nLiikuntavuoroon liittyvistä asioista keskustellaan liikuntavuorolla kävijöille tarkoitetussa Telegram-ryhmässä\, johon pääset liittymään tästä. Telegram-ryhmässä voit esimerkiksi kysyä neuvoja paikalle löytämiseen tai vaikka ehdottaa seuraavan kerran lajia. \nKerholla\, johtokuntalaisilla ja joillakin liikuntavuoroille osallistujista on yleensä ylimääräisiä liikuntavälineitä\, joten voit osallistua myös sellaisiin lajeihin\, joille sinulla itselläsi ei ole valineitä. Kysy rohkeasti! \n  \nTL;DR\nMITÄ? Jyväskylän fyysikkokerhon liikuntavuoro kerhon jäsenille.\nMISSÄ? Kampuksen kentän vieressä olevassa U2-urheiluhallissa.\nMILLOIN? Sunnuntaisin klo. 11.00 – 12.00.\nMIKSI? Koska liikunta on hyvästä! Vuorolla liikutaan joko pallopelien tai osallistujien toiveiden tahtiin. Lisää tietoa käytännön asioista täältä. \n================================================================================================ \nIn English \nThe sports shift of Jyväskylä’s Physicists’ club are starting again! The sports hall U2 is reserved for our members every Sunday at 11 – 12 from September 15. all the way to June 1. (Exeptions will be informed about on website and in Telegram group.) \nWe have a Telegram group for sports shift goers and we discuss all kinds of things related to the sports shift. You can join the Telegram sports shift group here. In there you can for example ask about directions to the U2 hall or suggest the sport you want to try next. \nUsually there is spare equipment either from the board or other members\, so you don’t necessarily have to have your own equipment to participate. Don’t hesitate to ask! \n  \nTL;DR\nWHAT? Sports shift for the members of Jyväskylä physicists club members.\nWHERE? At U2-sports hall next to the campus track field.\nWHEN? On Sundays at 11 – 12.\nWHY? Because it is good to excercise! We usually play ball sports and take requests from members. More information about practicalities from here.
URL:https://www.jyfk.fi/en/tapahtuma/liikuntavuoro-sports-shift-11/
LOCATION:U2-urheiluhalli seminaarinmäellä
CATEGORIES:Liikuntavuoro
END:VEVENT
BEGIN:VEVENT
DTSTART;TZID=Europe/Helsinki:20250117T100000
DTEND;TZID=Europe/Helsinki:20250117T110000
DTSTAMP:20260423T021626
CREATED:20250110T105529Z
LAST-MODIFIED:20250110T110332Z
UID:1706-1737108000-1737111600@www.jyfk.fi
SUMMARY:Fysiikan kollokvio // Physics colloquium - Teemu Ojanen (Tampere University) Entanglement phase transitions in monitored systems
DESCRIPTION:Welcome to the first Physics Colloquium of the year on Friday 17 January 2025 at 10:00 (FYS1): \nSpeaker: Teemu Ojanen (Tampere University) \nEntanglement phase transitions in monitored systems\nAn emerging research field which can be characterized as ”many-body physics in the quantum information era” studies complex quantum systems and many-body phenomenology in emerging quantum information platforms. In some ways\, it can be viewed as quantum condensed matter physics in a setting which enables detailed control of all aspects of the studied system. In my talk\, I describe some recent developments in monitored quantum circuits\, where the monitoring can induce a phase transition between an entanglement volume-law and area-law phases. \nZoom link: https://jyufi.zoom.us/j/69939724972 \n  \nWHAT IS COLLOQUIUM?\nA short (45 min) presentation about an interesting physics topic by an expert. Presentation is designed so that you don’t need experience from that particular field!\nCoffee served at 2nd floor lobby 10:00-10:15 \n  \nTL;DR\nWHAT? Colloquium\, everyone welcome!\nWHERE? At FYS1.\nWHEN? On Friday 17.1. at 10-11.\nWHY? Short interesting speech about quantum systems! (AND FREE COFFEE) \n 
URL:https://www.jyfk.fi/en/tapahtuma/fysiikan-kollokvio-physics-colloquium-teemu-ojanen-tampere-university-entanglement-phase-transistors-in-monitored-systems/
LOCATION:FYS1 (YFL230)
CATEGORIES:Kollokvio
END:VEVENT
BEGIN:VEVENT
DTSTART;TZID=Europe/Helsinki:20250119T110000
DTEND;TZID=Europe/Helsinki:20250119T120000
DTSTAMP:20260423T021626
CREATED:20250108T130320Z
LAST-MODIFIED:20250108T130320Z
UID:1683-1737284400-1737288000@www.jyfk.fi
SUMMARY:Liikuntavuoro // Sports shift
DESCRIPTION:In English below \nFyysikkokerhon liikuntavuorot lähtevät käyntiin jälleen! Liikunnan U2-sali on varattu Fyysikkokerhon jäsenille sunnuntaisin klo 11 – 12 syyskuun 15. päivästä aina 1. kesäkuuta asti. (Poikkeuksista ilmoitetaan nettisivuilla ja Telegram-ryhmässä) \nLiikuntavuoroon liittyvistä asioista keskustellaan liikuntavuorolla kävijöille tarkoitetussa Telegram-ryhmässä\, johon pääset liittymään tästä. Telegram-ryhmässä voit esimerkiksi kysyä neuvoja paikalle löytämiseen tai vaikka ehdottaa seuraavan kerran lajia. \nKerholla\, johtokuntalaisilla ja joillakin liikuntavuoroille osallistujista on yleensä ylimääräisiä liikuntavälineitä\, joten voit osallistua myös sellaisiin lajeihin\, joille sinulla itselläsi ei ole valineitä. Kysy rohkeasti! \n  \nTL;DR\nMITÄ? Jyväskylän fyysikkokerhon liikuntavuoro kerhon jäsenille.\nMISSÄ? Kampuksen kentän vieressä olevassa U2-urheiluhallissa.\nMILLOIN? Sunnuntaisin klo. 11.00 – 12.00.\nMIKSI? Koska liikunta on hyvästä! Vuorolla liikutaan joko pallopelien tai osallistujien toiveiden tahtiin. Lisää tietoa käytännön asioista täältä. \n================================================================================================ \nIn English \nThe sports shift of Jyväskylä’s Physicists’ club are starting again! The sports hall U2 is reserved for our members every Sunday at 11 – 12 from September 15. all the way to June 1. (Exeptions will be informed about on website and in Telegram group.) \nWe have a Telegram group for sports shift goers and we discuss all kinds of things related to the sports shift. You can join the Telegram sports shift group here. In there you can for example ask about directions to the U2 hall or suggest the sport you want to try next. \nUsually there is spare equipment either from the board or other members\, so you don’t necessarily have to have your own equipment to participate. Don’t hesitate to ask! \n  \nTL;DR\nWHAT? Sports shift for the members of Jyväskylä physicists club members.\nWHERE? At U2-sports hall next to the campus track field.\nWHEN? On Sundays at 11 – 12.\nWHY? Because it is good to excercise! We usually play ball sports and take requests from members. More information about practicalities from here.
URL:https://www.jyfk.fi/en/tapahtuma/liikuntavuoro-sports-shift-12/
LOCATION:U2-urheiluhalli seminaarinmäellä
CATEGORIES:Liikuntavuoro
END:VEVENT
BEGIN:VEVENT
DTSTART;TZID=Europe/Helsinki:20250126T110000
DTEND;TZID=Europe/Helsinki:20250126T120000
DTSTAMP:20260423T021626
CREATED:20250108T130418Z
LAST-MODIFIED:20250108T130418Z
UID:1685-1737889200-1737892800@www.jyfk.fi
SUMMARY:Liikuntavuoro // Sports shift
DESCRIPTION:In English below \nFyysikkokerhon liikuntavuorot lähtevät käyntiin jälleen! Liikunnan U2-sali on varattu Fyysikkokerhon jäsenille sunnuntaisin klo 11 – 12 syyskuun 15. päivästä aina 1. kesäkuuta asti. (Poikkeuksista ilmoitetaan nettisivuilla ja Telegram-ryhmässä) \nLiikuntavuoroon liittyvistä asioista keskustellaan liikuntavuorolla kävijöille tarkoitetussa Telegram-ryhmässä\, johon pääset liittymään tästä. Telegram-ryhmässä voit esimerkiksi kysyä neuvoja paikalle löytämiseen tai vaikka ehdottaa seuraavan kerran lajia. \nKerholla\, johtokuntalaisilla ja joillakin liikuntavuoroille osallistujista on yleensä ylimääräisiä liikuntavälineitä\, joten voit osallistua myös sellaisiin lajeihin\, joille sinulla itselläsi ei ole valineitä. Kysy rohkeasti! \n  \nTL;DR\nMITÄ? Jyväskylän fyysikkokerhon liikuntavuoro kerhon jäsenille.\nMISSÄ? Kampuksen kentän vieressä olevassa U2-urheiluhallissa.\nMILLOIN? Sunnuntaisin klo. 11.00 – 12.00.\nMIKSI? Koska liikunta on hyvästä! Vuorolla liikutaan joko pallopelien tai osallistujien toiveiden tahtiin. Lisää tietoa käytännön asioista täältä. \n================================================================================================ \nIn English \nThe sports shift of Jyväskylä’s Physicists’ club are starting again! The sports hall U2 is reserved for our members every Sunday at 11 – 12 from September 15. all the way to June 1. (Exeptions will be informed about on website and in Telegram group.) \nWe have a Telegram group for sports shift goers and we discuss all kinds of things related to the sports shift. You can join the Telegram sports shift group here. In there you can for example ask about directions to the U2 hall or suggest the sport you want to try next. \nUsually there is spare equipment either from the board or other members\, so you don’t necessarily have to have your own equipment to participate. Don’t hesitate to ask! \n  \nTL;DR\nWHAT? Sports shift for the members of Jyväskylä physicists club members.\nWHERE? At U2-sports hall next to the campus track field.\nWHEN? On Sundays at 11 – 12.\nWHY? Because it is good to excercise! We usually play ball sports and take requests from members. More information about practicalities from here.
URL:https://www.jyfk.fi/en/tapahtuma/liikuntavuoro-sports-shift-13/
LOCATION:U2-urheiluhalli seminaarinmäellä
CATEGORIES:Liikuntavuoro
END:VEVENT
BEGIN:VEVENT
DTSTART;TZID=Europe/Helsinki:20250127T170000
DTEND;TZID=Europe/Helsinki:20250127T210000
DTSTAMP:20260423T021626
CREATED:20250108T131237Z
LAST-MODIFIED:20250108T131237Z
UID:1695-1737997200-1738011600@www.jyfk.fi
SUMMARY:Tammikuun lautapeli-ilta // January Board Game Evening
DESCRIPTION:In English below \nFyysikkokerho järjestää tammikuussa lautapeli-illan Ravintola Tilian tiloissa Seminaarinmäellä (T-rakennus) maanantaina 27.1. klo 17 eteenpäin. Paikalle tuodaan monia Fyysikkokerhon ja johtokuntalaisten pelejä\, joten jotain pelattavaa löytyy kaikille aivan varmasti! Voit myös tuoda mukanasi omia lautapelejä yhdessä pelattavaksi. \n  \nTL;DR\nMITÄ? Lautapeli-ilta\nMISSÄ? Ravintola Tilian tiloissa (Seminaarinkatu 15\, T-rakennus)\nMILLOIN? Maanantaina 27.1. klo. 17.\nMIKSI? Koska lautapelien pelailu hyvässä seurassa on mukavaa puuhaa! \n================================================================================================ \nIn English \nThe Januaryboard game night is held at restaurant Tilia (Seminaarinkatu 15\, T-building) on Monday 27.1. at 5pm onwards. There are a lot of games from the Physicists’ Club and the club board members so there is surely a game for everybody! You can also bring your own board game with you. \n  \nTL;DR\nWHAT? Board game evening\nWHERE? At Tilia next to the university library building (Seminaarinkatu 15\, T-building)\nWHEN? On Monday 27.1. at 17.\nWHY? Because it is fun to play board games with good company!
URL:https://www.jyfk.fi/en/tapahtuma/tammikuun-lautapeli-ilta-january-board-game-evening/
CATEGORIES:Lautapelit
END:VEVENT
END:VCALENDAR