BEGIN:VCALENDAR
VERSION:2.0
PRODID:-//Jyv&auml;skyl&auml;n fyysikkokerho ry - ECPv6.15.20//NONSGML v1.0//EN
CALSCALE:GREGORIAN
METHOD:PUBLISH
X-WR-CALNAME:Jyv&auml;skyl&auml;n fyysikkokerho ry
X-ORIGINAL-URL:https://www.jyfk.fi/en
X-WR-CALDESC:Events for Jyv&auml;skyl&auml;n fyysikkokerho ry
REFRESH-INTERVAL;VALUE=DURATION:PT1H
X-Robots-Tag:noindex
X-PUBLISHED-TTL:PT1H
BEGIN:VTIMEZONE
TZID:Europe/Helsinki
BEGIN:DAYLIGHT
TZOFFSETFROM:+0200
TZOFFSETTO:+0300
TZNAME:EEST
DTSTART:20240331T010000
END:DAYLIGHT
BEGIN:STANDARD
TZOFFSETFROM:+0300
TZOFFSETTO:+0200
TZNAME:EET
DTSTART:20241027T010000
END:STANDARD
BEGIN:DAYLIGHT
TZOFFSETFROM:+0200
TZOFFSETTO:+0300
TZNAME:EEST
DTSTART:20250330T010000
END:DAYLIGHT
BEGIN:STANDARD
TZOFFSETFROM:+0300
TZOFFSETTO:+0200
TZNAME:EET
DTSTART:20251026T010000
END:STANDARD
BEGIN:DAYLIGHT
TZOFFSETFROM:+0200
TZOFFSETTO:+0300
TZNAME:EEST
DTSTART:20260329T010000
END:DAYLIGHT
BEGIN:STANDARD
TZOFFSETFROM:+0300
TZOFFSETTO:+0200
TZNAME:EET
DTSTART:20261025T010000
END:STANDARD
END:VTIMEZONE
BEGIN:VEVENT
DTSTART;TZID=Europe/Helsinki:20250404T180000
DTEND;TZID=Europe/Helsinki:20250404T210000
DTSTAMP:20260422T210435
CREATED:20250328T105302Z
LAST-MODIFIED:20250328T105302Z
UID:1833-1743789600-1743800400@www.jyfk.fi
SUMMARY:Huhtikuun lautapeli-ilta // April Board Game Evening
DESCRIPTION:In English below \nFyysikkokerho järjestää maaliskuussa lautapeli-illan kirjasto Lähteen Student lounge -tilassa Seminaarinmäellä (B-rakennus) perjantaina 4.4. klo 18 eteenpäin. Paikalle tuodaan monia Fyysikkokerhon ja johtokuntalaisten pelejä\, joten jotain pelattavaa löytyy kaikille aivan varmasti! Voit myös tuoda mukanasi omia lautapelejä yhdessä pelattavaksi. \n  \nTL;DR\nMITÄ? Lautapeli-ilta\nMISSÄ? Student lounge\, kirjasto Lähde (Seminaarinkatu 15\, B-rakennus)\nMILLOIN? Perjantaina 4.4. klo 18.\nMIKSI? Koska lautapelien pelailu hyvässä seurassa on mukavaa puuhaa! \n================================================================================================ \nIn English \nThe February board game night is held at Student lounge at Lähde library (Seminaarinkatu 15\, B-building) on Friday 4.4. at 6pm onwards. There are a lot of games from the Physicists’ Club and the club board members so there is surely a game for everybody! You can also bring your own board game with you. \n  \nTL;DR\nWHAT? Board game evening\nWHERE? At Student lounge\, Lähde library (Seminaarinkatu 15\, B-building)\nWHEN? On Friday 4.4. at 18.\nWHY? Because it is fun to play board games with good company!
URL:https://www.jyfk.fi/en/tapahtuma/huhtikuun-lautapeli-ilta-april-board-game-evening/
END:VEVENT
BEGIN:VEVENT
DTSTART;TZID=Europe/Helsinki:20250406T110000
DTEND;TZID=Europe/Helsinki:20250406T110000
DTSTAMP:20260422T210435
CREATED:20250219T110958Z
LAST-MODIFIED:20250219T110958Z
UID:1817-1743937200-1743937200@www.jyfk.fi
SUMMARY:Liikuntavuoro // Sports shift
DESCRIPTION:In English below \nFyysikkokerhon liikuntavuorot lähtevät käyntiin jälleen! Liikunnan U2-sali on varattu Fyysikkokerhon jäsenille sunnuntaisin klo 11 – 12 syyskuun 15. päivästä aina 1. kesäkuuta asti. (Poikkeuksista ilmoitetaan nettisivuilla ja Telegram-ryhmässä) \nLiikuntavuoroon liittyvistä asioista keskustellaan liikuntavuorolla kävijöille tarkoitetussa Telegram-ryhmässä\, johon pääset liittymään tästä. Telegram-ryhmässä voit esimerkiksi kysyä neuvoja paikalle löytämiseen tai vaikka ehdottaa seuraavan kerran lajia. \nKerholla\, johtokuntalaisilla ja joillakin liikuntavuoroille osallistujista on yleensä ylimääräisiä liikuntavälineitä\, joten voit osallistua myös sellaisiin lajeihin\, joille sinulla itselläsi ei ole valineitä. Kysy rohkeasti! \n  \nTL;DR\nMITÄ? Jyväskylän fyysikkokerhon liikuntavuoro kerhon jäsenille.\nMISSÄ? Kampuksen kentän vieressä olevassa U2-urheiluhallissa.\nMILLOIN? Sunnuntaisin klo. 11.00 – 12.00.\nMIKSI? Koska liikunta on hyvästä! Vuorolla liikutaan joko pallopelien tai osallistujien toiveiden tahtiin. Lisää tietoa käytännön asioista täältä. \n================================================================================================ \nIn English \nThe sports shift of Jyväskylä’s Physicists’ club are starting again! The sports hall U2 is reserved for our members every Sunday at 11 – 12 from September 15. all the way to June 1. (Exeptions will be informed about on website and in Telegram group.) \nWe have a Telegram group for sports shift goers and we discuss all kinds of things related to the sports shift. You can join the Telegram sports shift group here. In there you can for example ask about directions to the U2 hall or suggest the sport you want to try next. \nUsually there is spare equipment either from the board or other members\, so you don’t necessarily have to have your own equipment to participate. Don’t hesitate to ask! \n  \nTL;DR\nWHAT? Sports shift for the members of Jyväskylä physicists club members.\nWHERE? At U2-sports hall next to the campus track field.\nWHEN? On Sundays at 11 – 12.\nWHY? Because it is good to excercise! We usually play ball sports and take requests from members. More information about practicalities from here.
URL:https://www.jyfk.fi/en/tapahtuma/liikuntavuoro-sports-shift-23/
CATEGORIES:Liikuntavuoro
END:VEVENT
BEGIN:VEVENT
DTSTART;TZID=Europe/Helsinki:20250407T080000
DTEND;TZID=Europe/Helsinki:20250413T170000
DTSTAMP:20260422T210435
CREATED:20250328T105927Z
LAST-MODIFIED:20250407T110529Z
UID:1835-1744012800-1744563600@www.jyfk.fi
SUMMARY:Pääsiäismunajahti // Easter Egg Hunt
DESCRIPTION:In English below \n  \nMunia piilotetaan fysiikan laitoksen kerrosten 1\, 2 ja 3 käytäville\, auloihin ja avoinna oleviin yleisiin tiloihin. Jotta munia riittää kaikille\, saat pitää kaksi pientä ja yhden ison löytämäsi munan. Voit myös osallistua etsintäkisaan! \nEtsintäkisan ohjeet: \n\nVoit koittaa etsiä mahdollisimman monta pääsiäismunaa poistamatta niitä piiloistaan.\nPisteeksi lasketaan selfie\, jossa näkyy tunnistettavasti munan piilopaikka.\nEniten löytäneille luvassa palkintoja!\n\n  \nTL;DR\nMITÄ? Pääsiäismunajahti\nMISSÄ? Fysiikan laitosrakennuksen käytävät\, kerroksissa 1-3\nMILLOIN? Viikolla 15\nMIKSI? Koska ilmaisen pääsiäismunan löytäminen ja syöminen piristää kenen tahansa päivää! \n================================================================================================ \nIn English \n  \nEaster eggs are hid in the physics building hallways and lobbies floors 1 to 3. Please take max one big egg and two small eggs so everyone can find eggs. You can also take part in the egg search competition! \nRules of the egg search competition: \n\nYou can try to find as many Easter eggs as you can without removing them from the hiding spots.\nSelfie with the hiding spot counts as one point\nPerson who finds most Easter eggs gets a prize!\n\n  \nTL;DR\nWHAT? Easter egg hunt\nWHERE? At hallways of the physics building\, floors 1-3\nWHEN? On week 15.\nWHY? Because finding a free Easter egg for a snack cheers anyone up!
URL:https://www.jyfk.fi/en/tapahtuma/paasiaismunajahti-easter-egg-hunt/
END:VEVENT
BEGIN:VEVENT
DTSTART;TZID=Europe/Helsinki:20250407T160000
DTEND;TZID=Europe/Helsinki:20250407T200000
DTSTAMP:20260422T210435
CREATED:20250402T052019Z
LAST-MODIFIED:20250402T052019Z
UID:1839-1744041600-1744056000@www.jyfk.fi
SUMMARY:Pääsiäissaunaluento\, Kai Loo // Easter Saunalecture\, Kai Loo
DESCRIPTION:In English below \nSeuraava perinteinen saunaluento järjestetään maanantaina 7.4. klo 16 eteenpäin Nanosaunalla YNC330 (Survontie 9C). Ilta-aikaan nanosaunalle pääsee nanotalon pääovien vasemmalla puolella olevasta pienemmästä ovesta soittamalla Nanosaunan summeria. Puhujana tällä saunaluennolla toimii Kai Loo! \nAlkuun odotetaan pieni hetki\, että kaikki halukkaat kuuntelijat ehtivät paikalle. Saunaluento aloitetaan noin klo 16:30. Saunaluento on normaaleja kurssiluentoja lyhyempi kuuntelutilaisuus\, jonka aikana ja jälkeen voi esittää kiperiäkin kysymyksiä neutriinofysiikan asiantuntijalle! \nIllan aikana tietysti sauna on lämpimänä niin kauan kuin innokkaita saunojia riittää ja muille riittää reilusti pelailtavaa kokoushuoneen puolella. \nFyysikkokerho tuo snäksejä ja limuja! Kuitenkin jos haluat syödä tai juoda isommin\, niin OPM. \n  \nHUOM! Saunalla järjestetään myös pienimuotoinen pääsiäismunajahti alkaneen Pääsiäismunajahtitapahtuman kunniaksi! \n  \nTL;DR\nMITÄ? Pääsiäissaunaluento\, puhuja: Kai Loo\nMISSÄ? Nanosaunalla YNC330 (Survontie 9C)\nMILLOIN? Maanantaina 7.4. klo. 16.\nMIKSI? Koska saunaluennoilla saa kuulla mielenkiintoisista asioista ja Kai on huipputyyppi! \n================================================================================================ \nIn English \nThe next traditional sauna lecture is held on Monday 7.4. at 4pm onwards at Nanosauna YNC330 (Survontie 9C). You can get to the nanosauna evenings from the smaller door left from the main doors of the Nano building. Ring the Nanosauna doorbell and someone will let you in. The sauna lecture (not held in the sauna) is given by Kai Loo! \nWe wait for a moment for all the listeners to arrive. The sauna lecture starts about 16:30. The sauna lecture is shorter than a normal course lecture and you have a chance to ask tough questions (either after or during lecture) from an expert of neutrino physics! \nThe evening continues with sauna of course and for those who are not going to the sauna we have many board games to play. \nPhysicists’ club will bring some snacks and sodas! If you wish to eat or drink more\, BYOB (bring your own bottle). \n  \nThere will be small Easter egg hunt at the Saunalecture to kick off the Easter Egg Hunt -event! \n  \nTL;DR\nWHAT? Easter Saunalecture\, talking: Kai Loo.\nWHERE? Nanosauna YNC330 (Survontie 9C).\nWHEN? On Monday 7.4. at 16.\nWHY? Because saunalectures are always interensting and Kai ! \n 
URL:https://www.jyfk.fi/en/tapahtuma/paasiaissaunaluento-kai-loo-easter-saunalecture-kai-loo/
END:VEVENT
BEGIN:VEVENT
DTSTART;TZID=Europe/Helsinki:20250413T110000
DTEND;TZID=Europe/Helsinki:20250413T120000
DTSTAMP:20260422T210435
CREATED:20250219T111026Z
LAST-MODIFIED:20250219T111026Z
UID:1818-1744542000-1744545600@www.jyfk.fi
SUMMARY:Liikuntavuoro // Sports shift
DESCRIPTION:In English below \nFyysikkokerhon liikuntavuorot lähtevät käyntiin jälleen! Liikunnan U2-sali on varattu Fyysikkokerhon jäsenille sunnuntaisin klo 11 – 12 syyskuun 15. päivästä aina 1. kesäkuuta asti. (Poikkeuksista ilmoitetaan nettisivuilla ja Telegram-ryhmässä) \nLiikuntavuoroon liittyvistä asioista keskustellaan liikuntavuorolla kävijöille tarkoitetussa Telegram-ryhmässä\, johon pääset liittymään tästä. Telegram-ryhmässä voit esimerkiksi kysyä neuvoja paikalle löytämiseen tai vaikka ehdottaa seuraavan kerran lajia. \nKerholla\, johtokuntalaisilla ja joillakin liikuntavuoroille osallistujista on yleensä ylimääräisiä liikuntavälineitä\, joten voit osallistua myös sellaisiin lajeihin\, joille sinulla itselläsi ei ole valineitä. Kysy rohkeasti! \n  \nTL;DR\nMITÄ? Jyväskylän fyysikkokerhon liikuntavuoro kerhon jäsenille.\nMISSÄ? Kampuksen kentän vieressä olevassa U2-urheiluhallissa.\nMILLOIN? Sunnuntaisin klo. 11.00 – 12.00.\nMIKSI? Koska liikunta on hyvästä! Vuorolla liikutaan joko pallopelien tai osallistujien toiveiden tahtiin. Lisää tietoa käytännön asioista täältä. \n================================================================================================ \nIn English \nThe sports shift of Jyväskylä’s Physicists’ club are starting again! The sports hall U2 is reserved for our members every Sunday at 11 – 12 from September 15. all the way to June 1. (Exeptions will be informed about on website and in Telegram group.) \nWe have a Telegram group for sports shift goers and we discuss all kinds of things related to the sports shift. You can join the Telegram sports shift group here. In there you can for example ask about directions to the U2 hall or suggest the sport you want to try next. \nUsually there is spare equipment either from the board or other members\, so you don’t necessarily have to have your own equipment to participate. Don’t hesitate to ask! \n  \nTL;DR\nWHAT? Sports shift for the members of Jyväskylä physicists club members.\nWHERE? At U2-sports hall next to the campus track field.\nWHEN? On Sundays at 11 – 12.\nWHY? Because it is good to excercise! We usually play ball sports and take requests from members. More information about practicalities from here.
URL:https://www.jyfk.fi/en/tapahtuma/liikuntavuoro-sports-shift-24/
CATEGORIES:Liikuntavuoro
END:VEVENT
BEGIN:VEVENT
DTSTART;TZID=Europe/Helsinki:20250429T090000
DTEND;TZID=Europe/Helsinki:20250429T150000
DTSTAMP:20260422T210435
CREATED:20250402T060410Z
LAST-MODIFIED:20250428T090248Z
UID:1841-1745917200-1745938800@www.jyfk.fi
SUMMARY:Vappuluennot Potentiaalikuopalla // Vappulectures at Potentiaalikuoppa
DESCRIPTION:In English below \nVapun kunniaksi Fyysikkokerho järjestää vielä Saunaluentojakin rennomman luentokattauksen juuri ennen vapun juhlintaa Tiistaina 29.4. klo 9 eteenpäin Potentiaalikuopalla! \nOletko koskaan huomannut jääväsi kuuntelemaan Yannickin lentävää tarinaa\, joka tuntuu kestävän loputtomiin? Tiedätkö *sinä* mitä Timo tekee työkseen? Kutkuttaako ajatuksissasi aihe\, josta haluaisit puhua viisi\, viisitoista tai jopa viisikymmentä minuuttia\, mutta jolle ei tunnu löytyvän sopivaa aikaa ja paikkaa? \nVappuluennot on oiva paikka tulla kuuntelemaan mielenkiintoisia puheita rennossa ympäristössä\, tai pitämään omasi kiinnostuneelle yleisölle. Tule kysymään fysiikkakysymyksiäsi ihmisiltä\, jotka osaavat vastata tai ainakin päätyvät mielenkiintoiselle tangentille aiheesta! \n  \n \nVappuluentojen_aikataulu \n  \nTL;DR\nMITÄ? Vappuluennot\nMISSÄ? Potentiaalikuopalla\nMILLOIN? Tiistaina 29.4. klo 9 eteenpäin\nMIKSI? Koska mikä olisi Fyysikkokerhompi tapa juhlistaa vappua\, kuin puhua järkevistä ta vähän järjettömämmistä aiheista kanssafyysikoille! \n================================================================================================ \nIn English \nTo celebrate vappu\, Physicists’ Club helds even more calual lecture event than Saunalecture – Vappulectures! The Vappulectures are held on Tuesday 29.4. at 9am onwards at Potentiaalikuoppa. \nHave you ever noticed standing and carefully listening to Yannicks interesting and forever continuing stories? Do you actually know what Timo does for work? Do you have a subject about which you could talk five\, fifteen or maybe even fifty minutes straight\, but never find the right time or place to do so? \nVappulectures is the best plasce to come to listen to interesting talks in a very casual atmosphere\, or to give your own speech for a very interested audience. Come to ask physics questions from people who can either answer or go on a very interesting tangent about the topic! \n  \nThe timetable of the speeches is published later. \n  \nTL;DR\nWHAT? Vappulectures\nWHERE? at Potentiaalikuoppa\nWHEN? On Tuesday 29.4. at 9am onwards\nWHY? Because what would be a better way for physicists to celebrate vappu than to give rational or irrational lectures! \n 
URL:https://www.jyfk.fi/en/tapahtuma/vappuluennot-potentiaalikuopalla-vappulectures-at-potentiaalikuoppa/
END:VEVENT
END:VCALENDAR