BEGIN:VCALENDAR
VERSION:2.0
PRODID:-//Jyv&auml;skyl&auml;n fyysikkokerho ry - ECPv6.15.20//NONSGML v1.0//EN
CALSCALE:GREGORIAN
METHOD:PUBLISH
X-ORIGINAL-URL:https://www.jyfk.fi
X-WR-CALDESC:Tapahtumat Jyv&auml;skyl&auml;n fyysikkokerho ry
REFRESH-INTERVAL;VALUE=DURATION:PT1H
X-Robots-Tag:noindex
X-PUBLISHED-TTL:PT1H
BEGIN:VTIMEZONE
TZID:Europe/Helsinki
BEGIN:DAYLIGHT
TZOFFSETFROM:+0200
TZOFFSETTO:+0300
TZNAME:EEST
DTSTART:20230326T010000
END:DAYLIGHT
BEGIN:STANDARD
TZOFFSETFROM:+0300
TZOFFSETTO:+0200
TZNAME:EET
DTSTART:20231029T010000
END:STANDARD
BEGIN:DAYLIGHT
TZOFFSETFROM:+0200
TZOFFSETTO:+0300
TZNAME:EEST
DTSTART:20240331T010000
END:DAYLIGHT
BEGIN:STANDARD
TZOFFSETFROM:+0300
TZOFFSETTO:+0200
TZNAME:EET
DTSTART:20241027T010000
END:STANDARD
BEGIN:DAYLIGHT
TZOFFSETFROM:+0200
TZOFFSETTO:+0300
TZNAME:EEST
DTSTART:20250330T010000
END:DAYLIGHT
BEGIN:STANDARD
TZOFFSETFROM:+0300
TZOFFSETTO:+0200
TZNAME:EET
DTSTART:20251026T010000
END:STANDARD
END:VTIMEZONE
BEGIN:VEVENT
DTSTART;TZID=Europe/Helsinki:20241002T160000
DTEND;TZID=Europe/Helsinki:20241002T180000
DTSTAMP:20260423T035429
CREATED:20240924T105838Z
LAST-MODIFIED:20240924T105838Z
UID:1652-1727884800-1727892000@www.jyfk.fi
SUMMARY:Luontoretki Ylistönmäelle // Nature walk at Ylistönmäki
DESCRIPTION:In English below \nSeuraavalle luotoretkelle lähdetään suoraan Ylistöltä\, eikä tätä reissua varten tarvitse järjestää itseään muualle kuin tavalliseen tapaan yliopistolle. Luontoretki järjestetään keskiviikkona 2.10. klo 16\, kokoontumispaikka on fysiikan laitoksen aula ja kohteena on yliopistorakennusten viereisen Ylistönmäen polut. Ota siis aamulla luontoretkivarusteet mukaan ja tule päivän päätteeksi reippailemaan olit sitten viettänyt koko päivän toimistossa\, luokkahuoneessa tai bunkkerissa! \nHUOM! Ylimääräiset tavarat voi jättää yliopistolle\, esimerkiksi lukittaviin kaappeihin\, sillä pääsy takaisin yliopiston tiloihin vielä illalla on varmistettu. \n  \nTL;DR\nMITÄ? Luontoretki Ylistönmäen ympäristöön.\nMISSÄ? Kokoontuminen fysiikan laitoksen aulassa.\nMILLOIN? Keskiviikkona 2.10. klo. 16.\nMIKSI? Koska on hyvä lähteä työpäivän jälkeen liikkeelle! \n================================================================================================ \nIn English \nThe next nature walk takes place at Ylistönmäki so you don’t need to get yourself anywhere else but to the familiar physics department. The nature walk is held on Wednesday 2.10. at 4pm\, we gather in the physics department lobby and we are going to walk to the trails on Ylistönmäki next to the Ylistö buildings. So take your outdooring equipment with you in the morning and join us after the day! No matter if you spent your day in the office\, in lecture halls or in the bunker downstairs. Join us! \nATTENTION! You can leave your stuff for example in the physics department lockers. We make sure we have access to the physics building through the evening. \n  \nTL;DR\nWHAT? Nature walk Ylistönmäen ympäristöön.\nWHERE? We gather in the physics department lobby.\nWHEN? On Wednesday 2.10. at 16.\nWHY? Because it is good to go to walk after work! \n 
URL:https://www.jyfk.fi/tapahtuma/luontoretki-ylistonmaelle-nature-walk-at-ylistonmaki/
END:VEVENT
BEGIN:VEVENT
DTSTART;TZID=Europe/Helsinki:20241006T110000
DTEND;TZID=Europe/Helsinki:20241006T120000
DTSTAMP:20260423T035429
CREATED:20240924T094447Z
LAST-MODIFIED:20240924T094447Z
UID:1650-1728212400-1728216000@www.jyfk.fi
SUMMARY:Liikuntavuoro // Sports shift
DESCRIPTION:In English below \nFyysikkokerhon liikuntavuorot lähtevät käyntiin jälleen! Liikunnan U2-sali on varattu Fyysikkokerhon jäsenille sunnuntaisin klo 11 – 12 syyskuun 15. päivästä aina 1. kesäkuuta asti. (Poikkeuksista ilmoitetaan nettisivuilla ja Telegram-ryhmässä) \nLiikuntavuoroon liittyvistä asioista keskustellaan liikuntavuorolla kävijöille tarkoitetussa Telegram-ryhmässä\, johon pääset liittymään tästä. Telegram-ryhmässä voit esimerkiksi kysyä neuvoja paikalle löytämiseen tai vaikka ehdottaa seuraavan kerran lajia. \nKerholla\, johtokuntalaisilla ja joillakin liikuntavuoroille osallistujista on yleensä ylimääräisiä liikuntavälineitä\, joten voit osallistua myös sellaisiin lajeihin\, joille sinulla itselläsi ei ole valineitä. Kysy rohkeasti! \n  \nTL;DR\nMITÄ? Jyväskylän fyysikkokerhon liikuntavuoro kerhon jäsenille.\nMISSÄ? Kampuksen kentän vieressä olevassa U2-urheiluhallissa.\nMILLOIN? Sunnuntaisin klo. 11.00 – 12.00.\nMIKSI? Koska liikunta on hyvästä! Vuorolla liikutaan joko pallopelien tai osallistujien toiveiden tahtiin. Lisää tietoa käytännön asioista täältä. \n================================================================================================ \nIn English \nThe sports shift of Jyväskylä’s Physicists’ club are starting again! The sports hall U2 is reserved for our members every Sunday at 11 – 12 from September 15. all the way to June 1. (Exeptions will be informed about on website and in Telegram group.) \nWe have a Telegram group for sports shift goers and we discuss all kinds of things related to the sports shift. You can join the Telegram sports shift group here. In there you can for example ask about directions to the U2 hall or suggest the sport you want to try next. \nUsually there is spare equipment either from the board or other members\, so you don’t necessarily have to have your own equipment to participate. Don’t hesitate to ask! \n  \nTL;DR\nWHAT? Sports shift for the members of Jyväskylä physicists club members.\nWHERE? At U2-sports hall next to the campus track field.\nWHEN? On Sundays at 11 – 12.\nWHY? Because it is good to excercise! We usually play ball sports and take requests from members. More information about practicalities from here. \n 
URL:https://www.jyfk.fi/tapahtuma/liikuntavuoro-sports-shift-3/
LOCATION:U2-urheiluhalli seminaarinmäellä
END:VEVENT
BEGIN:VEVENT
DTSTART;TZID=Europe/Helsinki:20241012T120000
DTEND;TZID=Europe/Helsinki:20241012T160000
DTSTAMP:20260423T035429
CREATED:20240924T111751Z
LAST-MODIFIED:20240924T111751Z
UID:1658-1728734400-1728748800@www.jyfk.fi
SUMMARY:Luontoretki Kanavuoreen // Nature walk at Kanavuori
DESCRIPTION:In English below \nLähdemme luontoretkeilemään Kanavuoren luontopouille Vaajakosken suunnille lauantaina 12.10. klo 12. \n(lisätietoa tapahtumasta myöhemmin) \n  \nHUOM! Tämä luontopolku on hieman haastava ja sisältää jyrkkiä mäkiä ja portaita! \n  \nTL;DR\nMITÄ? Luontoretki Kanavuoren luontopolulle.\nMISSÄ? Kokoontuminen Kanavuoren luontopolun parkkipaikka (tarkempi osoite myöhemmin).\nMILLOIN? Lauantaina 12.10. klo. 12.\nMIKSI? Koska vaativat luontopolut ovat hauskoja haasteita! \n================================================================================================ \nIn English \nWe go to Kanavuori nature trail in Vaajakoski on Saturday 12.10. at 12:00. \n(more info coming later) \n  \nATTENTION! This walk trail contains steep hills and staits! \n  \nTL;DR\nWHAT? Nature walk to Kanavuori nature trail.\nWHERE? We gather in the parting lot near the trail (address coming later).\nWHEN? On Saturday 12.10. at 16.\nWHY? Because challenging nature trails are fun!
URL:https://www.jyfk.fi/tapahtuma/luontoretki-kanavuoreen-nature-walk-at-kanavuori/
END:VEVENT
BEGIN:VEVENT
DTSTART;TZID=Europe/Helsinki:20241013T110000
DTEND;TZID=Europe/Helsinki:20241013T120000
DTSTAMP:20260423T035429
CREATED:20240924T110208Z
LAST-MODIFIED:20240924T110208Z
UID:1654-1728817200-1728820800@www.jyfk.fi
SUMMARY:Liikuntavuoro // Sports shift
DESCRIPTION:In English below \nFyysikkokerhon liikuntavuorot lähtevät käyntiin jälleen! Liikunnan U2-sali on varattu Fyysikkokerhon jäsenille sunnuntaisin klo 11 – 12 syyskuun 15. päivästä aina 1. kesäkuuta asti. (Poikkeuksista ilmoitetaan nettisivuilla ja Telegram-ryhmässä) \nLiikuntavuoroon liittyvistä asioista keskustellaan liikuntavuorolla kävijöille tarkoitetussa Telegram-ryhmässä\, johon pääset liittymään tästä. Telegram-ryhmässä voit esimerkiksi kysyä neuvoja paikalle löytämiseen tai vaikka ehdottaa seuraavan kerran lajia. \nKerholla\, johtokuntalaisilla ja joillakin liikuntavuoroille osallistujista on yleensä ylimääräisiä liikuntavälineitä\, joten voit osallistua myös sellaisiin lajeihin\, joille sinulla itselläsi ei ole valineitä. Kysy rohkeasti! \n  \nTL;DR\nMITÄ? Jyväskylän fyysikkokerhon liikuntavuoro kerhon jäsenille.\nMISSÄ? Kampuksen kentän vieressä olevassa U2-urheiluhallissa.\nMILLOIN? Sunnuntaisin klo. 11.00 – 12.00.\nMIKSI? Koska liikunta on hyvästä! Vuorolla liikutaan joko pallopelien tai osallistujien toiveiden tahtiin. Lisää tietoa käytännön asioista täältä. \n================================================================================================ \nIn English \nThe sports shift of Jyväskylä’s Physicists’ club are starting again! The sports hall U2 is reserved for our members every Sunday at 11 – 12 from September 15. all the way to June 1. (Exeptions will be informed about on website and in Telegram group.) \nWe have a Telegram group for sports shift goers and we discuss all kinds of things related to the sports shift. You can join the Telegram sports shift group here. In there you can for example ask about directions to the U2 hall or suggest the sport you want to try next. \nUsually there is spare equipment either from the board or other members\, so you don’t necessarily have to have your own equipment to participate. Don’t hesitate to ask! \n  \nTL;DR\nWHAT? Sports shift for the members of Jyväskylä physicists club members.\nWHERE? At U2-sports hall next to the campus track field.\nWHEN? On Sundays at 11 – 12.\nWHY? Because it is good to excercise! We usually play ball sports and take requests from members. More information about practicalities from here. \n 
URL:https://www.jyfk.fi/tapahtuma/liikuntavuoro-sports-shift-4/
END:VEVENT
BEGIN:VEVENT
DTSTART;TZID=Europe/Helsinki:20241014T170000
DTEND;TZID=Europe/Helsinki:20241014T190000
DTSTAMP:20260423T035429
CREATED:20241014T090208Z
LAST-MODIFIED:20241014T090208Z
UID:1672-1728925200-1728932400@www.jyfk.fi
SUMMARY:Lokakuun Lautapeli-ilta // October Board Game Evening
DESCRIPTION:In English below \nFyysikkokerho järjestää lokakuussa lautapeli-illan Ravintola Tilian tiloissa Seminaarinmäellä (T-rakennus) maanantaina 14.10. klo 17 eteenpäin. Paikalle tuodaan monia Fyysikkokerhon ja johtokuntalaisten pelejä\, joten jotain pelattavaa löytyy kaikille aivan varmasti! Voit myös tuoda mukanasi omia lautapelejä yhdessä pelattavaksi. \n  \nTL;DR\nMITÄ? Lautapeli-ilta\nMISSÄ? Ravintola Tilian tiloissa (Seminaarinkatu 15\, T-rakennus)\nMILLOIN? Maanantaina 14.10. klo. 17.\nMIKSI? Koska lautapelien pelailu hyvässä seurassa on mukavaa puuhaa! \n================================================================================================ \nIn English \nThe october board game night is held at restaurant Tilia (Seminaarinkatu 15\, T-building) on Monday 14.10. at 5pm onwards. There are a lot of games from the Physicists’ Club and the club board members so there is surely a game for everybody! You can also bring your own board game with you. \n  \nTL;DR\nWHAT? Board game evening\nWHERE? At Tilia next to the university library building (Seminaarinkatu 15\, T-building)\nWHEN? On Monday 14.10. at 17.\nWHY? Because it is fun to play board games with good company!
URL:https://www.jyfk.fi/tapahtuma/lokakuun-lautapeli-ilta-october-board-game-evening/
END:VEVENT
BEGIN:VEVENT
DTSTART;TZID=Europe/Helsinki:20241020T110000
DTEND;TZID=Europe/Helsinki:20241020T120000
DTSTAMP:20260423T035429
CREATED:20240924T110303Z
LAST-MODIFIED:20240924T110303Z
UID:1656-1729422000-1729425600@www.jyfk.fi
SUMMARY:Liikuntavuoro // Sports shift
DESCRIPTION:In English below \nFyysikkokerhon liikuntavuorot lähtevät käyntiin jälleen! Liikunnan U2-sali on varattu Fyysikkokerhon jäsenille sunnuntaisin klo 11 – 12 syyskuun 15. päivästä aina 1. kesäkuuta asti. (Poikkeuksista ilmoitetaan nettisivuilla ja Telegram-ryhmässä) \nLiikuntavuoroon liittyvistä asioista keskustellaan liikuntavuorolla kävijöille tarkoitetussa Telegram-ryhmässä\, johon pääset liittymään tästä. Telegram-ryhmässä voit esimerkiksi kysyä neuvoja paikalle löytämiseen tai vaikka ehdottaa seuraavan kerran lajia. \nKerholla\, johtokuntalaisilla ja joillakin liikuntavuoroille osallistujista on yleensä ylimääräisiä liikuntavälineitä\, joten voit osallistua myös sellaisiin lajeihin\, joille sinulla itselläsi ei ole valineitä. Kysy rohkeasti! \n  \nTL;DR\nMITÄ? Jyväskylän fyysikkokerhon liikuntavuoro kerhon jäsenille.\nMISSÄ? Kampuksen kentän vieressä olevassa U2-urheiluhallissa.\nMILLOIN? Sunnuntaisin klo. 11.00 – 12.00.\nMIKSI? Koska liikunta on hyvästä! Vuorolla liikutaan joko pallopelien tai osallistujien toiveiden tahtiin. Lisää tietoa käytännön asioista täältä. \n================================================================================================ \nIn English \nThe sports shift of Jyväskylä’s Physicists’ club are starting again! The sports hall U2 is reserved for our members every Sunday at 11 – 12 from September 15. all the way to June 1. (Exeptions will be informed about on website and in Telegram group.) \nWe have a Telegram group for sports shift goers and we discuss all kinds of things related to the sports shift. You can join the Telegram sports shift group here. In there you can for example ask about directions to the U2 hall or suggest the sport you want to try next. \nUsually there is spare equipment either from the board or other members\, so you don’t necessarily have to have your own equipment to participate. Don’t hesitate to ask! \n  \nTL;DR\nWHAT? Sports shift for the members of Jyväskylä physicists club members.\nWHERE? At U2-sports hall next to the campus track field.\nWHEN? On Sundays at 11 – 12.\nWHY? Because it is good to excercise! We usually play ball sports and take requests from members. More information about practicalities from here. \n 
URL:https://www.jyfk.fi/tapahtuma/liikuntavuoro-sports-shift-5/
END:VEVENT
BEGIN:VEVENT
DTSTART;TZID=Europe/Helsinki:20241022T160000
DTEND;TZID=Europe/Helsinki:20241022T220000
DTSTAMP:20260423T035429
CREATED:20240828T075203Z
LAST-MODIFIED:20241014T095709Z
UID:1632-1729612800-1729634400@www.jyfk.fi
SUMMARY:Perinteinen Saunaluento\, Taneli Kalvas MCC30-kiihdytin  // Saunalecture Taneli Kalvas MCC30 accelerator
DESCRIPTION:In English below \nSeuraava perinteinen saunaluento järjestetään tiistaina 20.10. klo 16 eteenpäin Nanosaunalla YNC330 (Survontie 9C). Ilta-aikaan nanosaunalle pääsee nanotalon pääovien vasemmalla puolella olevasta pienemmästä ovesta soittamalla Nanosaunan summeria. Puhujana tällä saunaluennolla toimii Taneli Kalvas\, joka kertoo meille MCC30-kiihdyttimestä! \nAlkuun odotetaan pieni hetki\, että kaikki halukkaat kuuntelijat ehtivät paikalle. Saunaluento aloitetaan noin klo 16:30. Saunaluento on normaaleja kurssiluentoja lyhyempi kuuntelutilaisuus\, jonka aikana ja jälkeen voi esittää kiperiäkin kysymyksiä hiukkaskiihdyttimien ja ionilähteiden asiantuntijalle! \nIllan aikana tietysti sauna on lämpimänä niin kauan kuin innokkaita saunojia riittää ja muille riittää reilusti pelailtavaa kokoushuoneen puolella. \nFyysikkokerho tuo snäksejä ja limuja! Kuitenkin jos haluat syödä tai juoda isommin\, niin OPM. \n  \nTL;DR\nMITÄ? Perinteinen saunaluento\, puhuja: Taneli Kalvas\, aihe: MCC30-kiihdytin\nMISSÄ? Nanosaunalla YNC330 (Survontie 9C)\nMILLOIN? Tiistaina 22.10. klo. 16.\nMIKSI? Koska saunaluennoilla saa kuulla mielenkiintoisista asioista ja Taneli on huippuhyvä puhuja! \n================================================================================================ \nIn English \nThe next traditional sauna lecture is held on Tuesday 20.10. at 4pm onwards at Nanosauna YNC330 (Survontie 9C). You can get to the nanosauna evenings from the smaller door left from the main doors of the Nano building. Ring the Nanosauna doorbell and someone will let you in. The sauna lecture (not held in the sauna) is given by Taneli Kalvas who tells us about the MCC30 accelerator! \nWe wait for a moment for all the listeners to arrive. The sauna lecture starts about 16:30. The sauna lecture is shorter than a normal course lecture and you have a chance to ask tough questions (either after or during lecture) from an expert of particle accelerators and ion sources! \nThe evening continues with sauna of course and for those who are not going to the sauna we have many board games to play. \nPhysicists’ club will bring some snacks and sodas! If you wish to eat or drink more\, BYOB (bring your own bottle). \n  \nTL;DR\nWHAT? Traditional Saunalecture\, talking: Taneli Kalvas\, subject: MCC30 accelerator.\nWHERE? Nanosauna YNC330 (Survontie 9C).\nWHEN? On Tuesday 20.10. at 16.\nWHY? Because saunalectures are always interensting and Taneli gives excellent talks! \n 
URL:https://www.jyfk.fi/tapahtuma/perinteinen-saunaluento-taneli-kalvas-mcc30-kiihdytin/
LOCATION:Nanosauna (YNC330)
END:VEVENT
BEGIN:VEVENT
DTSTART;TZID=Europe/Helsinki:20241027T110000
DTEND;TZID=Europe/Helsinki:20241027T120000
DTSTAMP:20260423T035429
CREATED:20241014T083745Z
LAST-MODIFIED:20241014T083745Z
UID:1662-1730026800-1730030400@www.jyfk.fi
SUMMARY:Liikuntavuoro // Sports shift
DESCRIPTION:In English below \nFyysikkokerhon liikuntavuorot lähtevät käyntiin jälleen! Liikunnan U2-sali on varattu Fyysikkokerhon jäsenille sunnuntaisin klo 11 – 12 syyskuun 15. päivästä aina 1. kesäkuuta asti. (Poikkeuksista ilmoitetaan nettisivuilla ja Telegram-ryhmässä) \nLiikuntavuoroon liittyvistä asioista keskustellaan liikuntavuorolla kävijöille tarkoitetussa Telegram-ryhmässä\, johon pääset liittymään tästä. Telegram-ryhmässä voit esimerkiksi kysyä neuvoja paikalle löytämiseen tai vaikka ehdottaa seuraavan kerran lajia. \nKerholla\, johtokuntalaisilla ja joillakin liikuntavuoroille osallistujista on yleensä ylimääräisiä liikuntavälineitä\, joten voit osallistua myös sellaisiin lajeihin\, joille sinulla itselläsi ei ole valineitä. Kysy rohkeasti! \n  \nTL;DR\nMITÄ? Jyväskylän fyysikkokerhon liikuntavuoro kerhon jäsenille.\nMISSÄ? Kampuksen kentän vieressä olevassa U2-urheiluhallissa.\nMILLOIN? Sunnuntaisin klo. 11.00 – 12.00.\nMIKSI? Koska liikunta on hyvästä! Vuorolla liikutaan joko pallopelien tai osallistujien toiveiden tahtiin. Lisää tietoa käytännön asioista täältä. \n================================================================================================ \nIn English \nThe sports shift of Jyväskylä’s Physicists’ club are starting again! The sports hall U2 is reserved for our members every Sunday at 11 – 12 from September 15. all the way to June 1. (Exeptions will be informed about on website and in Telegram group.) \nWe have a Telegram group for sports shift goers and we discuss all kinds of things related to the sports shift. You can join the Telegram sports shift group here. In there you can for example ask about directions to the U2 hall or suggest the sport you want to try next. \nUsually there is spare equipment either from the board or other members\, so you don’t necessarily have to have your own equipment to participate. Don’t hesitate to ask! \n  \nTL;DR\nWHAT? Sports shift for the members of Jyväskylä physicists club members.\nWHERE? At U2-sports hall next to the campus track field.\nWHEN? On Sundays at 11 – 12.\nWHY? Because it is good to excercise! We usually play ball sports and take requests from members. More information about practicalities from here. \n 
URL:https://www.jyfk.fi/tapahtuma/liikuntavuoro-sports-shift-6/
LOCATION:U2-urheiluhalli seminaarinmäellä
END:VEVENT
END:VCALENDAR