BEGIN:VCALENDAR
VERSION:2.0
PRODID:-//Jyv&auml;skyl&auml;n fyysikkokerho ry - ECPv6.15.20//NONSGML v1.0//EN
CALSCALE:GREGORIAN
METHOD:PUBLISH
X-ORIGINAL-URL:https://www.jyfk.fi
X-WR-CALDESC:Tapahtumat Jyv&auml;skyl&auml;n fyysikkokerho ry
REFRESH-INTERVAL;VALUE=DURATION:PT1H
X-Robots-Tag:noindex
X-PUBLISHED-TTL:PT1H
BEGIN:VTIMEZONE
TZID:Europe/Helsinki
BEGIN:DAYLIGHT
TZOFFSETFROM:+0200
TZOFFSETTO:+0300
TZNAME:EEST
DTSTART:20240331T010000
END:DAYLIGHT
BEGIN:STANDARD
TZOFFSETFROM:+0300
TZOFFSETTO:+0200
TZNAME:EET
DTSTART:20241027T010000
END:STANDARD
BEGIN:DAYLIGHT
TZOFFSETFROM:+0200
TZOFFSETTO:+0300
TZNAME:EEST
DTSTART:20250330T010000
END:DAYLIGHT
BEGIN:STANDARD
TZOFFSETFROM:+0300
TZOFFSETTO:+0200
TZNAME:EET
DTSTART:20251026T010000
END:STANDARD
BEGIN:DAYLIGHT
TZOFFSETFROM:+0200
TZOFFSETTO:+0300
TZNAME:EEST
DTSTART:20260329T010000
END:DAYLIGHT
BEGIN:STANDARD
TZOFFSETFROM:+0300
TZOFFSETTO:+0200
TZNAME:EET
DTSTART:20261025T010000
END:STANDARD
END:VTIMEZONE
BEGIN:VEVENT
DTSTART;TZID=Europe/Helsinki:20250202T110000
DTEND;TZID=Europe/Helsinki:20250202T120000
DTSTAMP:20260422T204818
CREATED:20250108T130606Z
LAST-MODIFIED:20250108T130606Z
UID:1687-1738494000-1738497600@www.jyfk.fi
SUMMARY:Liikuntavuoro // Sports shift
DESCRIPTION:In English below \nFyysikkokerhon liikuntavuorot lähtevät käyntiin jälleen! Liikunnan U2-sali on varattu Fyysikkokerhon jäsenille sunnuntaisin klo 11 – 12 syyskuun 15. päivästä aina 1. kesäkuuta asti. (Poikkeuksista ilmoitetaan nettisivuilla ja Telegram-ryhmässä) \nLiikuntavuoroon liittyvistä asioista keskustellaan liikuntavuorolla kävijöille tarkoitetussa Telegram-ryhmässä\, johon pääset liittymään tästä. Telegram-ryhmässä voit esimerkiksi kysyä neuvoja paikalle löytämiseen tai vaikka ehdottaa seuraavan kerran lajia. \nKerholla\, johtokuntalaisilla ja joillakin liikuntavuoroille osallistujista on yleensä ylimääräisiä liikuntavälineitä\, joten voit osallistua myös sellaisiin lajeihin\, joille sinulla itselläsi ei ole valineitä. Kysy rohkeasti! \n  \nTL;DR\nMITÄ? Jyväskylän fyysikkokerhon liikuntavuoro kerhon jäsenille.\nMISSÄ? Kampuksen kentän vieressä olevassa U2-urheiluhallissa.\nMILLOIN? Sunnuntaisin klo. 11.00 – 12.00.\nMIKSI? Koska liikunta on hyvästä! Vuorolla liikutaan joko pallopelien tai osallistujien toiveiden tahtiin. Lisää tietoa käytännön asioista täältä. \n================================================================================================ \nIn English \nThe sports shift of Jyväskylä’s Physicists’ club are starting again! The sports hall U2 is reserved for our members every Sunday at 11 – 12 from September 15. all the way to June 1. (Exeptions will be informed about on website and in Telegram group.) \nWe have a Telegram group for sports shift goers and we discuss all kinds of things related to the sports shift. You can join the Telegram sports shift group here. In there you can for example ask about directions to the U2 hall or suggest the sport you want to try next. \nUsually there is spare equipment either from the board or other members\, so you don’t necessarily have to have your own equipment to participate. Don’t hesitate to ask! \n  \nTL;DR\nWHAT? Sports shift for the members of Jyväskylä physicists club members.\nWHERE? At U2-sports hall next to the campus track field.\nWHEN? On Sundays at 11 – 12.\nWHY? Because it is good to excercise! We usually play ball sports and take requests from members. More information about practicalities from here.
URL:https://www.jyfk.fi/tapahtuma/liikuntavuoro-sports-shift-14/
LOCATION:U2-urheiluhalli seminaarinmäellä
CATEGORIES:Liikuntavuoro
END:VEVENT
BEGIN:VEVENT
DTSTART;TZID=Europe/Helsinki:20250209T110000
DTEND;TZID=Europe/Helsinki:20250209T120000
DTSTAMP:20260422T204818
CREATED:20250108T130715Z
LAST-MODIFIED:20250108T130715Z
UID:1689-1739098800-1739102400@www.jyfk.fi
SUMMARY:Liikuntavuoro // Sports shift
DESCRIPTION:In English below \nFyysikkokerhon liikuntavuorot lähtevät käyntiin jälleen! Liikunnan U2-sali on varattu Fyysikkokerhon jäsenille sunnuntaisin klo 11 – 12 syyskuun 15. päivästä aina 1. kesäkuuta asti. (Poikkeuksista ilmoitetaan nettisivuilla ja Telegram-ryhmässä) \nLiikuntavuoroon liittyvistä asioista keskustellaan liikuntavuorolla kävijöille tarkoitetussa Telegram-ryhmässä\, johon pääset liittymään tästä. Telegram-ryhmässä voit esimerkiksi kysyä neuvoja paikalle löytämiseen tai vaikka ehdottaa seuraavan kerran lajia. \nKerholla\, johtokuntalaisilla ja joillakin liikuntavuoroille osallistujista on yleensä ylimääräisiä liikuntavälineitä\, joten voit osallistua myös sellaisiin lajeihin\, joille sinulla itselläsi ei ole valineitä. Kysy rohkeasti! \n  \nTL;DR\nMITÄ? Jyväskylän fyysikkokerhon liikuntavuoro kerhon jäsenille.\nMISSÄ? Kampuksen kentän vieressä olevassa U2-urheiluhallissa.\nMILLOIN? Sunnuntaisin klo. 11.00 – 12.00.\nMIKSI? Koska liikunta on hyvästä! Vuorolla liikutaan joko pallopelien tai osallistujien toiveiden tahtiin. Lisää tietoa käytännön asioista täältä. \n================================================================================================ \nIn English \nThe sports shift of Jyväskylä’s Physicists’ club are starting again! The sports hall U2 is reserved for our members every Sunday at 11 – 12 from September 15. all the way to June 1. (Exeptions will be informed about on website and in Telegram group.) \nWe have a Telegram group for sports shift goers and we discuss all kinds of things related to the sports shift. You can join the Telegram sports shift group here. In there you can for example ask about directions to the U2 hall or suggest the sport you want to try next. \nUsually there is spare equipment either from the board or other members\, so you don’t necessarily have to have your own equipment to participate. Don’t hesitate to ask! \n  \nTL;DR\nWHAT? Sports shift for the members of Jyväskylä physicists club members.\nWHERE? At U2-sports hall next to the campus track field.\nWHEN? On Sundays at 11 – 12.\nWHY? Because it is good to exercise! We usually play ball sports and take requests from members. More information about practicalities from here.
URL:https://www.jyfk.fi/tapahtuma/liikuntavuoro-sports-shift-15/
LOCATION:U2-urheiluhalli seminaarinmäellä
CATEGORIES:Liikuntavuoro
END:VEVENT
BEGIN:VEVENT
DTSTART;TZID=Europe/Helsinki:20250216T110000
DTEND;TZID=Europe/Helsinki:20250216T120000
DTSTAMP:20260422T204818
CREATED:20250108T130809Z
LAST-MODIFIED:20250108T130809Z
UID:1691-1739703600-1739707200@www.jyfk.fi
SUMMARY:Liikuntavuoro // Sports shift
DESCRIPTION:In English below \nFyysikkokerhon liikuntavuorot lähtevät käyntiin jälleen! Liikunnan U2-sali on varattu Fyysikkokerhon jäsenille sunnuntaisin klo 11 – 12 syyskuun 15. päivästä aina 1. kesäkuuta asti. (Poikkeuksista ilmoitetaan nettisivuilla ja Telegram-ryhmässä) \nLiikuntavuoroon liittyvistä asioista keskustellaan liikuntavuorolla kävijöille tarkoitetussa Telegram-ryhmässä\, johon pääset liittymään tästä. Telegram-ryhmässä voit esimerkiksi kysyä neuvoja paikalle löytämiseen tai vaikka ehdottaa seuraavan kerran lajia. \nKerholla\, johtokuntalaisilla ja joillakin liikuntavuoroille osallistujista on yleensä ylimääräisiä liikuntavälineitä\, joten voit osallistua myös sellaisiin lajeihin\, joille sinulla itselläsi ei ole valineitä. Kysy rohkeasti! \n  \nTL;DR\nMITÄ? Jyväskylän fyysikkokerhon liikuntavuoro kerhon jäsenille.\nMISSÄ? Kampuksen kentän vieressä olevassa U2-urheiluhallissa.\nMILLOIN? Sunnuntaisin klo. 11.00 – 12.00.\nMIKSI? Koska liikunta on hyvästä! Vuorolla liikutaan joko pallopelien tai osallistujien toiveiden tahtiin. Lisää tietoa käytännön asioista täältä. \n================================================================================================ \nIn English \nThe sports shift of Jyväskylä’s Physicists’ club are starting again! The sports hall U2 is reserved for our members every Sunday at 11 – 12 from September 15. all the way to June 1. (Exeptions will be informed about on website and in Telegram group.) \nWe have a Telegram group for sports shift goers and we discuss all kinds of things related to the sports shift. You can join the Telegram sports shift group here. In there you can for example ask about directions to the U2 hall or suggest the sport you want to try next. \nUsually there is spare equipment either from the board or other members\, so you don’t necessarily have to have your own equipment to participate. Don’t hesitate to ask! \n  \nTL;DR\nWHAT? Sports shift for the members of Jyväskylä physicists club members.\nWHERE? At U2-sports hall next to the campus track field.\nWHEN? On Sundays at 11 – 12.\nWHY? Because it is good to excercise! We usually play ball sports and take requests from members. More information about practicalities from here.
URL:https://www.jyfk.fi/tapahtuma/liikuntavuoro-sports-shift-16/
LOCATION:U2-urheiluhalli seminaarinmäellä
END:VEVENT
BEGIN:VEVENT
DTSTART;TZID=Europe/Helsinki:20250217T160000
DTEND;TZID=Europe/Helsinki:20250217T220000
DTSTAMP:20260422T204818
CREATED:20250108T133107Z
LAST-MODIFIED:20250123T143634Z
UID:1700-1739808000-1739829600@www.jyfk.fi
SUMMARY:Fyysikkokerhon kevätkokous // Physicists' Club Spring Meeting
DESCRIPTION:In English below \nFyysikkokerhon kevätkokous järjestetään Nanosaunalla YNC330 (Survontie 9D) maanantaina 17.1. klo 17 eteenpäin. Paikalle voi saapua klo 16 alkaen. Ilta-aikaan nanosaunalle pääsee nanotalon pääovien vasemmalla puolella olevasta pienemmästä ovesta soittamalla Nanosaunan summeria. \n  \nTarkemmat tiedot ja esityslista liitteineen julkaistaan lähempänä tapahtumaa. \n  \nIllan aikana tietysti sauna on lämpimänä niin kauan kuin innokkaita saunojia riittää ja muille riittää reilusti pelailtavaa kokoushuoneen puolella. \nFyysikkokerho tuo snäksejä ja limuja! Kuitenkin jos haluat syödä tai juoda isommin\, niin OPM (oma pullo mukaan). \n  \nTL;DR\nMITÄ? Kevätkokous\nMISSÄ? Nanosaunalla YNC330 (Survontie 9D).\nMILLOIN? Maanantaina 17.2. klo. 17.\nMIKSI? Koska yhdistystoiminta on tärkeää! (JA ILMAINEN RUOKA) \n================================================================================================ \nIn English \nThe meeting is held in Finnish\, but English speaking members are most welcome to enjoy the sauna and games.  \n  \nThe Physicists’ Club Spring Meeting is held at Nanosauna YNC330 (Survontie 9D) on Monday 17.2. at 5pm onwards. You can arrive at the Nanosauna at 4pm onwards. You can get to the nanosauna evenings from the smaller door left from the main doors of the Nano building. Ring the Nanosauna doorbell and someone will let you in. \n  \nAdditional information about the event and the agenda with attachments are added to this event later. \n  \nThe evening continues with sauna of course and for those who are not going to the sauna we have many board games to play. \nPhysicists’ club will bring some snacks and sodas! If you wish to eat or drink more\, BYOB (bring your own bottle). \n  \nTL;DR\nWHAT? The Physicists’ Club Spring Meeting\nWHERE? At Nano sauna YNC330 (Survontie 9D).\nWHEN? On Monday 17.2. at 17.\nWHY? Because bureaucracy is important! (AND FREE FOOD)
URL:https://www.jyfk.fi/tapahtuma/fyysikkokerhon-kevatkokous-physicists-club-spring-meeting/
LOCATION:Nanosauna (YNC330)
CATEGORIES:Lautapelit
END:VEVENT
BEGIN:VEVENT
DTSTART;TZID=Europe/Helsinki:20250223T110000
DTEND;TZID=Europe/Helsinki:20250223T120000
DTSTAMP:20260422T204818
CREATED:20250108T130859Z
LAST-MODIFIED:20250108T130859Z
UID:1693-1740308400-1740312000@www.jyfk.fi
SUMMARY:Liikuntavuoro // Sports shift
DESCRIPTION:In English below \nFyysikkokerhon liikuntavuorot lähtevät käyntiin jälleen! Liikunnan U2-sali on varattu Fyysikkokerhon jäsenille sunnuntaisin klo 11 – 12 syyskuun 15. päivästä aina 1. kesäkuuta asti. (Poikkeuksista ilmoitetaan nettisivuilla ja Telegram-ryhmässä) \nLiikuntavuoroon liittyvistä asioista keskustellaan liikuntavuorolla kävijöille tarkoitetussa Telegram-ryhmässä\, johon pääset liittymään tästä. Telegram-ryhmässä voit esimerkiksi kysyä neuvoja paikalle löytämiseen tai vaikka ehdottaa seuraavan kerran lajia. \nKerholla\, johtokuntalaisilla ja joillakin liikuntavuoroille osallistujista on yleensä ylimääräisiä liikuntavälineitä\, joten voit osallistua myös sellaisiin lajeihin\, joille sinulla itselläsi ei ole valineitä. Kysy rohkeasti! \n  \nTL;DR\nMITÄ? Jyväskylän fyysikkokerhon liikuntavuoro kerhon jäsenille.\nMISSÄ? Kampuksen kentän vieressä olevassa U2-urheiluhallissa.\nMILLOIN? Sunnuntaisin klo. 11.00 – 12.00.\nMIKSI? Koska liikunta on hyvästä! Vuorolla liikutaan joko pallopelien tai osallistujien toiveiden tahtiin. Lisää tietoa käytännön asioista täältä. \n================================================================================================ \nIn English \nThe sports shift of Jyväskylä’s Physicists’ club are starting again! The sports hall U2 is reserved for our members every Sunday at 11 – 12 from September 15. all the way to June 1. (Exeptions will be informed about on website and in Telegram group.) \nWe have a Telegram group for sports shift goers and we discuss all kinds of things related to the sports shift. You can join the Telegram sports shift group here. In there you can for example ask about directions to the U2 hall or suggest the sport you want to try next. \nUsually there is spare equipment either from the board or other members\, so you don’t necessarily have to have your own equipment to participate. Don’t hesitate to ask! \n  \nTL;DR\nWHAT? Sports shift for the members of Jyväskylä physicists club members.\nWHERE? At U2-sports hall next to the campus track field.\nWHEN? On Sundays at 11 – 12.\nWHY? Because it is good to excercise! We usually play ball sports and take requests from members. More information about practicalities from here.
URL:https://www.jyfk.fi/tapahtuma/liikuntavuoro-sports-shift-17/
LOCATION:U2-urheiluhalli seminaarinmäellä
CATEGORIES:Liikuntavuoro
END:VEVENT
BEGIN:VEVENT
DTSTART;TZID=Europe/Helsinki:20250224T170000
DTEND;TZID=Europe/Helsinki:20250224T210000
DTSTAMP:20260422T204818
CREATED:20250108T131433Z
LAST-MODIFIED:20250123T143815Z
UID:1697-1740416400-1740430800@www.jyfk.fi
SUMMARY:Helmikuun lautapeli-ilta // February Board Game Evening
DESCRIPTION:In English below \nFyysikkokerho järjestää helmikuussa lautapeli-illan Ravintola Tilian tiloissa Seminaarinmäellä (T-rakennus) maanantaina 24.2. klo 17 eteenpäin. Paikalle tuodaan monia Fyysikkokerhon ja johtokuntalaisten pelejä\, joten jotain pelattavaa löytyy kaikille aivan varmasti! Voit myös tuoda mukanasi omia lautapelejä yhdessä pelattavaksi. \n  \nTL;DR\nMITÄ? Lautapeli-ilta\nMISSÄ? Ravintola Tilian tiloissa (Seminaarinkatu 15\, T-rakennus)\nMILLOIN? Maanantaina 24.2. klo. 17.\nMIKSI? Koska lautapelien pelailu hyvässä seurassa on mukavaa puuhaa! \n================================================================================================ \nIn English \nThe February board game night is held at restaurant Tilia (Seminaarinkatu 15\, T-building) on Monday 24.2. at 5pm onwards. There are a lot of games from the Physicists’ Club and the club board members so there is surely a game for everybody! You can also bring your own board game with you. \n  \nTL;DR\nWHAT? Board game evening\nWHERE? At Tilia next to the university library building (Seminaarinkatu 15\, T-building)\nWHEN? On Monday 24.2. at 17.\nWHY? Because it is fun to play board games with good company!
URL:https://www.jyfk.fi/tapahtuma/helmikuun-lautapeli-ilta-february-board-game-evening/
CATEGORIES:Lautapelit
END:VEVENT
END:VCALENDAR