BEGIN:VCALENDAR
VERSION:2.0
PRODID:-//Jyv&auml;skyl&auml;n fyysikkokerho ry - ECPv6.15.20//NONSGML v1.0//EN
CALSCALE:GREGORIAN
METHOD:PUBLISH
X-WR-CALNAME:Jyv&auml;skyl&auml;n fyysikkokerho ry
X-ORIGINAL-URL:https://www.jyfk.fi
X-WR-CALDESC:Tapahtumat Jyv&auml;skyl&auml;n fyysikkokerho ry
REFRESH-INTERVAL;VALUE=DURATION:PT1H
X-Robots-Tag:noindex
X-PUBLISHED-TTL:PT1H
BEGIN:VTIMEZONE
TZID:Europe/Helsinki
BEGIN:DAYLIGHT
TZOFFSETFROM:+0200
TZOFFSETTO:+0300
TZNAME:EEST
DTSTART:20220327T010000
END:DAYLIGHT
BEGIN:STANDARD
TZOFFSETFROM:+0300
TZOFFSETTO:+0200
TZNAME:EET
DTSTART:20221030T010000
END:STANDARD
BEGIN:DAYLIGHT
TZOFFSETFROM:+0200
TZOFFSETTO:+0300
TZNAME:EEST
DTSTART:20230326T010000
END:DAYLIGHT
BEGIN:STANDARD
TZOFFSETFROM:+0300
TZOFFSETTO:+0200
TZNAME:EET
DTSTART:20231029T010000
END:STANDARD
BEGIN:DAYLIGHT
TZOFFSETFROM:+0200
TZOFFSETTO:+0300
TZNAME:EEST
DTSTART:20240331T010000
END:DAYLIGHT
BEGIN:STANDARD
TZOFFSETFROM:+0300
TZOFFSETTO:+0200
TZNAME:EET
DTSTART:20241027T010000
END:STANDARD
BEGIN:DAYLIGHT
TZOFFSETFROM:+0200
TZOFFSETTO:+0300
TZNAME:EEST
DTSTART:20250330T010000
END:DAYLIGHT
BEGIN:STANDARD
TZOFFSETFROM:+0300
TZOFFSETTO:+0200
TZNAME:EET
DTSTART:20251026T010000
END:STANDARD
END:VTIMEZONE
BEGIN:VEVENT
DTSTART;TZID=Europe/Helsinki:20240917T160000
DTEND;TZID=Europe/Helsinki:20240917T220000
DTSTAMP:20260423T061030
CREATED:20240828T074248Z
LAST-MODIFIED:20240911T065232Z
UID:1630-1726588800-1726610400@www.jyfk.fi
SUMMARY:Fuksisauna\, Timo Sajavaara // Fresher sauna with Timo Sajavaara
DESCRIPTION:In English below \nFyysikkokerhon fuksisauna on täällä jälleen! Fuksisauna järjestetään perinteisesti Nanosaunalla YNC330 (Survontie 9D) tiistaina 17.9. kello 16 eteenpäin. Ilta-aikaan nanosaunalle pääsee nanotalon pääovien vasemmalla puolella olevasta pienemmästä ovesta soittamalla Nanosaunan summeria. \nAlkuun fysiikan laitoksen johtaja Timo Sajavaara pitää lyhyen saunaluennon itsestään ja urastaan. Luennon jälkeen järjestetään pieni Kahoot-visa\, jossa on jaossa palkintoja. Illan aikana tietysti sauna on lämpimänä niin kauan kuin innokkaita saunojia riittää ja muille riittää reilusti pelailtavaa kokoushuoneen puolella. \nFyysikkokerho tuo snäksejä ja limuja! Kuitenkin jos haluat syödä tai juoda isommin\, niin OPM. \n  \nHUOM! Fuksisaunalle ovat tervetulleita kaikki opiskelijoista ja henkilökunnasta jäsenyydestä riippumatta! \n  \nTL;DR\nMITÄ? Fuksisauna\, saunakummina ja puhujana laitoksen johtaja Timo Sajavaara\nMISSÄ? Nanosaunalla YNC330 (Survontie 9D).\nMILLOIN? Tiistaina 17.9. klo 16 eteenpäin.\nMIKSI? Koska sauna ja laitoksen johtaja on aina hyvä yhdistelmä! \n================================================================================================ \nIn English \nThe freshmen sauna of Jyväskylä’s Phycisists’ club is here again! The sauna is held traditionally at Nanosauna YNC330 (Survontie 9D) on Tuesday 17.9 at 4pm onwards. You can get to the nanosauna evenings from the smaller door left from the main doors of the Nano building. Ring the Nanosauna doorbell and someone will let you in. \nThe event starts with sauna lecture (not held in the sauna) of the head of the physics department Timo Sajavaara. Timo will be talking a bit about himself and his career. After the talk we have a small Kahoot quiz and winners will receive prizes! The evening continues with sauna of course and for those who are not going to the sauna we have many board games to play. \nPhysicists’ club will bring some snacks and sodas! If you wish to eat or drink more\, BYOB (bring your own bottle). \n  \nATTENTION! Everyone from students to staff member or not is welcome to join the Fresmen sauna! \n  \nTL;DR\nMITÄ? Fresher sauna\, talking the head of the department Timo Sajavaara\nMISSÄ? At Nano sauna YNC330 (Survontie 9D).\nMILLOIN? On Tuesday 17.9. at 16 onwards.\nMIKSI? Because sauna and head of the department and snacks and board games!
URL:https://www.jyfk.fi/tapahtuma/fuksisauna-timo-sajavaara/
LOCATION:Nanosauna (YNC330)
END:VEVENT
BEGIN:VEVENT
DTSTART;TZID=Europe/Helsinki:20240915T110000
DTEND;TZID=Europe/Helsinki:20240915T120000
DTSTAMP:20260423T061030
CREATED:20240911T062412Z
LAST-MODIFIED:20240911T062412Z
UID:1643-1726398000-1726401600@www.jyfk.fi
SUMMARY:Liikuntavuoro // Sports shift
DESCRIPTION:In English below \nFyysikkokerhon liikuntavuorot lähtevät käyntiin jälleen! Liikunnan U2-sali on varattu Fyysikkokerhon jäsenille sunnuntaisin klo 11 – 12 syyskuun 15. päivästä aina 1. kesäkuuta asti. (Poikkeuksista ilmoitetaan nettisivuilla ja Telegram-ryhmässä) \nLiikuntavuoroon liittyvistä asioista keskustellaan liikuntavuorolla kävijöille tarkoitetussa Telegram-ryhmässä\, johon pääset liittymään tästä. Telegram-ryhmässä voit esimerkiksi kysyä neuvoja paikalle löytämiseen tai vaikka ehdottaa seuraavan kerran lajia. \nKerholla\, johtokuntalaisilla ja joillakin liikuntavuoroille osallistujista on yleensä ylimääräisiä liikuntavälineitä\, joten voit osallistua myös sellaisiin lajeihin\, joille sinulla itselläsi ei ole valineitä. Kysy rohkeasti! \n  \nTL;DR\nMITÄ? Jyväskylän fyysikkokerhon liikuntavuoro kerhon jäsenille.\nMISSÄ? Kampuksen kentän vieressä olevassa U2-urheiluhallissa.\nMILLOIN? Sunnuntaisin klo. 11.00 – 12.00.\nMIKSI? Koska liikunta on hyvästä! Vuorolla liikutaan joko pallopelien tai osallistujien toiveiden tahtiin. Lisää tietoa käytännön asioista täältä. \n================================================================================================ \nIn English \nThe sports shift of Jyväskylä’s Physicists’ club are starting again! The sports hall U2 is reserved for our members every Sunday at 11 – 12 from September 15. all the way to June 1. (Exeptions will be informed about on website and in Telegram group.) \nWe have a Telegram group for sports shift goers and we discuss all kinds of things related to the sports shift. You can join the Telegram sports shift group here. In there you can for example ask about directions to the U2 hall or suggest the sport you want to try next. \nUsually there is spare equipment either from the board or other members\, so you don’t necessarily have to have your own equipment to participate. Don’t hesitate to ask! \n  \nTL;DR\nWHAT? Sports shift for the members of Jyväskylä physicists club members.\nWHERE? At U2-sports hall next to the campus track field.\nWHEN? On Sundays at 11 – 12.\nWHY? Because it is good to excercise! We usually play ball sports and take requests from members. More information about practicalities from here. \n 
URL:https://www.jyfk.fi/tapahtuma/liikuntavuoro-sports-shift/
LOCATION:U2-urheiluhalli seminaarinmäellä
CATEGORIES:Liikuntavuoro
END:VEVENT
BEGIN:VEVENT
DTSTART;TZID=Europe/Helsinki:20240908T120000
DTEND;TZID=Europe/Helsinki:20240908T150000
DTSTAMP:20260423T061030
CREATED:20240828T070229Z
LAST-MODIFIED:20240828T070229Z
UID:1628-1725796800-1725807600@www.jyfk.fi
SUMMARY:Luontoretki Haukanniemeen
DESCRIPTION:Su 8.9 klo.12.00\n2.4km kierros\, esteetön pääsy.\nLähtöpaikkana Lyhdekadun parkkipaikka\nRentukalta matkaa 800m\, kävellen 10min.\nOsa Haukanniemestä on suojelualuetta.\nRautpohjanlahti ja Eeronlahti ovat tunnettuja lintujentarkkailupaikkoja.\nNiemen kärjessä puolikota\, johon pysähdymme paistamaan omia eväitä.
URL:https://www.jyfk.fi/tapahtuma/luontoretki-haukanniemeen/
END:VEVENT
BEGIN:VEVENT
DTSTART;TZID=Europe/Helsinki:20240831T120000
DTEND;TZID=Europe/Helsinki:20240831T150000
DTSTAMP:20260423T061030
CREATED:20240828T065302Z
LAST-MODIFIED:20240828T065321Z
UID:1626-1725105600-1725116400@www.jyfk.fi
SUMMARY:Luontoretki Sippulanniemeen
DESCRIPTION:Lähtöpaikka Ristikiventien ja Nurmilaukan risteyksen parkkipaikalta.\nKuokkalan keskustasta matkaa 2.3km\, kävellen 30min ja pyörällä 10min.\n4km kierros\nLuontopolku perustettu 1986 ja sen varrella on 20 infotaulua.\nYmpäristö: tuorepohjaista kuusikkoa\, sekametsää\, kalliopohjaista männikköä\, leppävaltaista lehtoa ja suota.
URL:https://www.jyfk.fi/tapahtuma/luontoretki-sippulanniemeen/
END:VEVENT
BEGIN:VEVENT
DTSTART;TZID=Europe/Helsinki:20231208T160000
DTEND;TZID=Europe/Helsinki:20231208T200000
DTSTAMP:20260423T061030
CREATED:20231205T114219Z
LAST-MODIFIED:20231205T115050Z
UID:1613-1702051200-1702065600@www.jyfk.fi
SUMMARY:Fyysikkokerhon syyskokous ja pikkujoulet!
DESCRIPTION:TL;DR:\nMITÄ: Fyysikkokerhon syyskokous ja pikkujoulet\nMISSÄ: Fysiikan laitoksen kolmannen kerroksen luokkahuoneessa\, FYS2\nMILLOIN: Tiistai 8.12.2023 klo. 16.00 – 20.00\nMIKSI: Pääset kuulemaan kerhon toiminnasta ja viettämään fyysikkokerhon pikkujouleja! \nOn tullut aika järjestää fyysikkokerhon sääntömääräinen syyskokous vuodella 2023. Kokous järjestetään tällä\nkertaa FYS2-luokkahuoneessa perjantaina 8.12.2023 alkaen klo 16.00. Ennen kokousta Fysiikan laitoksen väitöskirjatutkija Elina Kauppinen pitää esityksen tutkimusaiheestaan sekä jatko-opinnoista. \nEsitelmän jälkeen siirrytään pitämään syyskokousta noin kello 17.00 liitteenä olevan esityslistan (Esityslista-syyskokous-2023) mukaisesti. Kokouksessa käydään vuoden 2024 toimintasuunnitelma läpi\, esitellään talousarvio vuodelle 2024\, päätetään jäsenmaksuista vuodelle 2024\, päätetään johtokunnan palkkio vuodelle 2024\, valitaan puheenjohtaja ja muut johtokunnan jäsenet vuodelle 2024 sekä valitaan kaksi (2) tilintarkastajaa ja yksi (1) varamies. Näiden lisäksi käsitellään kokouksessa muut esille tulleet asiat. \nKaikilla osallistuvilla jäsenillä on puhe- ja äänioikeus. Tähän kokoukseen kannattaa osallistua mikäli järjestötoiminta kiinnostaa!\nTapahtumassa fyysikkokerho tarjoaa naposteltavaa. Kokoustilan on varannut saunakummi Elina Kauppinen. Paikalle pääsee kello 16 alkaen.
URL:https://www.jyfk.fi/tapahtuma/fyysikkokerhon-syyskokous-ja-pikkujoulet/
LOCATION:FYS2\, Yliopiston fysiikan laitos\, Jyväskylä
END:VEVENT
BEGIN:VEVENT
DTSTART;TZID=Europe/Helsinki:20231110T100000
DTEND;TZID=Europe/Helsinki:20231110T110000
DTSTAMP:20260423T061030
CREATED:20230922T104357Z
LAST-MODIFIED:20230922T104357Z
UID:1578-1699610400-1699614000@www.jyfk.fi
SUMMARY:Fysiikan kollokvio // Physics colloquium - Andreas Norman (UEF): Quantum complementarities in vectorial light fields
DESCRIPTION:Fysiikan kollokvio 10.11. Lisää tietoa täällä. \nPhysics colloquium 10.11. More information here.
URL:https://www.jyfk.fi/tapahtuma/fysiikan-kollokvio-physics-colloquium-andreas-norman-uef-quantum-complementarities-in-vectorial-light-fields/
LOCATION:FYS1 (YFL230)
CATEGORIES:Kollokvio
END:VEVENT
BEGIN:VEVENT
DTSTART;TZID=Europe/Helsinki:20231103T160000
DTEND;TZID=Europe/Helsinki:20231103T220000
DTSTAMP:20260423T061030
CREATED:20231025T115522Z
LAST-MODIFIED:20231025T115522Z
UID:1609-1699027200-1699048800@www.jyfk.fi
SUMMARY:Kollokviosauna - Mathias Kläui saapuu Jyväskylään kertomaan urastaan
DESCRIPTION:Mikäs se tämä kollokviosauna oikein on? Jyväskylän fysiikan laitos järjestää fysiikan kollokvion yhteistyössä fyysikkokerhon kanssa perjantaina 3.11. klo. 10.15\, jonka jälkeen illalla on saunatapahtuma tällä kollokvioteemalla klo. 16.00. Kollokviopuhuja Mathias Kläui tulee myös saunomaan ja pitämään lyhyen esityksen urastaan (klo. 17.00) sekä siitä miten tutkija voi vaikuttaa teknologiaan. Tarjolla tapahtumassa on ruokaa ja juomaa (pitsaa ja kaljaa // myös gluteeniton ja vegaaninen vaihtoehto)! \nMitä? Kollokviosauna! \nMissä? Nanosaunalla YNC330\, käynti nanotalon vasemmasta sivuovesta \nMilloin? Pe 3.11 klo. 16.00\, esitys klo. 17.00 \nMiksi? Koska pääset saunomaan ja kuulemaan Mathiaksen urakehityksestä sekä syömään ja juomaan! \neng. \nWhat exactly is this colloquial sauna? Jyväskylä’s Department of Physics organizes a physics colloquium in cooperation with the physics club on Friday\, November 3. at 10:15\, after which there will be a sauna event in the evening with this colloquium theme at 4:00 p.m. Colloquium speaker Mathias Kläui will also take a sauna and give a short presentation about his career (at 17:00) and how a researcher can influence technology. Food and drinks are available at the event (pizza and kalia // gluten-free and vegan options)! \nWhat? Colloquium sauna! \nWhere? With the nanosauna YNC330\, access from the left side door of the nanohouse \nWhen? Fri 3.11 at 16.00\, performance at 17.00 \nWhy? Because you get to take a sauna and hear about Mathias’ career development\, as well as eat and drink!
URL:https://www.jyfk.fi/tapahtuma/kollokviosauna-mathias-klaui-saapuu-jyvaskylaan-kertomaan-urastaan/
END:VEVENT
BEGIN:VEVENT
DTSTART;TZID=Europe/Helsinki:20231103T100000
DTEND;TZID=Europe/Helsinki:20231103T110000
DTSTAMP:20260423T061030
CREATED:20230922T104212Z
LAST-MODIFIED:20230922T104212Z
UID:1576-1699005600-1699009200@www.jyfk.fi
SUMMARY:Fysiikan kollokvio // Physics colloquium - Mathias Kläui (Mainz): Spintronics today (tentative)
DESCRIPTION:Fysiikan kollokvio 3.11. Lisää tietoa täällä. \nPhysics colloquium 3.11. More information here.
URL:https://www.jyfk.fi/tapahtuma/fysiikan-kollokvio-physics-colloquium-mathias-klaui-mainz-spintronics-today-tentative/
LOCATION:FYS1 (YFL230)
CATEGORIES:Kollokvio
END:VEVENT
BEGIN:VEVENT
DTSTART;TZID=Europe/Helsinki:20231029T150000
DTEND;TZID=Europe/Helsinki:20231029T160000
DTSTAMP:20260423T061030
CREATED:20230922T105555Z
LAST-MODIFIED:20230927T110119Z
UID:1590-1698591600-1698595200@www.jyfk.fi
SUMMARY:Liikuntavuoro
DESCRIPTION:Mitä? \n\nJyväskylän fyysikkokerhon liikuntavuoro kerhon jäsenille.\n\nMissä? \n\nKampuksen kentän vieressä olevassa U2-urheiluhallissa.\n\nMilloin?  \n\nSunnuntaisin klo. 15.00 – 16.00.\n\nMiksi?  \n\nKoska liikunta on hyvästä! Vuorolla liikutaan joko pallopelien tai osallistujien toiveiden tahtiin. Lisää tietoa täältä.\n\n  \nPelataan tällä kerralla salibandyä.
URL:https://www.jyfk.fi/tapahtuma/liikuntavuoro-7/
LOCATION:U2-urheiluhalli seminaarinmäellä
END:VEVENT
BEGIN:VEVENT
DTSTART;TZID=Europe/Helsinki:20231027T100000
DTEND;TZID=Europe/Helsinki:20231027T110000
DTSTAMP:20260423T061030
CREATED:20230922T103954Z
LAST-MODIFIED:20230922T103954Z
UID:1574-1698400800-1698404400@www.jyfk.fi
SUMMARY:Fysiikan kollokvio // Physics colloquium - Päivi Törmä (Aalto): Room temperature superconductivity by 2033 (tentative)
DESCRIPTION:Fysiikan kollokvio 27.10. Lisää tietoa täällä. \nPhysics colloquium. More information here.
URL:https://www.jyfk.fi/tapahtuma/fysiikan-kollokvio-physics-colloquium-paivi-torma-aalto-room-temperature-superconductivity-by-2033-tentative/
LOCATION:FYS1 (YFL230)
CATEGORIES:Kollokvio
END:VEVENT
BEGIN:VEVENT
DTSTART;TZID=Europe/Helsinki:20231022T150000
DTEND;TZID=Europe/Helsinki:20231022T160000
DTSTAMP:20260423T061030
CREATED:20230922T105503Z
LAST-MODIFIED:20230922T105503Z
UID:1588-1697986800-1697990400@www.jyfk.fi
SUMMARY:Liikuntavuoro
DESCRIPTION:Mitä? \n\nJyväskylän fyysikkokerhon liikuntavuoro kerhon jäsenille.\n\nMissä? \n\nKampuksen kentän vieressä olevassa U2-urheiluhallissa.\n\nMilloin?  \n\nSunnuntaisin klo. 15.00 – 16.00.\n\nMiksi?  \n\nKoska liikunta on hyvästä! Vuorolla liikutaan joko pallopelien tai osallistujien toiveiden tahtiin. Lisää tietoa täältä.
URL:https://www.jyfk.fi/tapahtuma/liikuntavuoro-6/
LOCATION:U2-urheiluhalli seminaarinmäellä
END:VEVENT
BEGIN:VEVENT
DTSTART;TZID=Europe/Helsinki:20231015T150000
DTEND;TZID=Europe/Helsinki:20231015T160000
DTSTAMP:20260423T061030
CREATED:20230922T105431Z
LAST-MODIFIED:20230922T105431Z
UID:1586-1697382000-1697385600@www.jyfk.fi
SUMMARY:Liikuntavuoro
DESCRIPTION:Mitä? \n\nJyväskylän fyysikkokerhon liikuntavuoro kerhon jäsenille.\n\nMissä? \n\nKampuksen kentän vieressä olevassa U2-urheiluhallissa.\n\nMilloin?  \n\nSunnuntaisin klo. 15.00 – 16.00.\n\nMiksi?  \n\nKoska liikunta on hyvästä! Vuorolla liikutaan joko pallopelien tai osallistujien toiveiden tahtiin. Lisää tietoa täältä.
URL:https://www.jyfk.fi/tapahtuma/liikuntavuoro-5/
LOCATION:U2-urheiluhalli seminaarinmäellä
END:VEVENT
BEGIN:VEVENT
DTSTART;TZID=Europe/Helsinki:20231011T160000
DTEND;TZID=Europe/Helsinki:20231011T230000
DTSTAMP:20260423T061030
CREATED:20230922T110801Z
LAST-MODIFIED:20230922T110801Z
UID:1567-1697040000-1697065200@www.jyfk.fi
SUMMARY:Saunaluento - Kvarkkiaineen kokeellinen tutkimus CERN:in ALICE-kokeessa
DESCRIPTION:Hiphei ja hurraa! Saunaluento on taas täällä! Sami Räsänen tulee kertomaan kvarkkiaineen kokeellisesta tutkimuksesta CERN:in ALICE-kokeessa fysiikan laitoksen nanosaunalle (YNC330) keskiviikkona 11.10.23 klo. 16.00. Kokoustilan ovet aukeavat siis 16.00 ja esitys alkaa noin 16.15. Tapahtumassa lämmitetään sauna ja sinne pääsee esityksen jälkeen jatkamaan keskusteluja. Huom. OPPM. \n  \nMitä? Saunaluento! \nMissä? Nanosaunalla YNC330\, käynti nanotalon vasemmasta sivuovesta \nMilloin? ke 11.10 klo. 16.00 \nMiksi? Koska pääset saunomaan ja kuuntelemaan mielenkiintoista esitystä fysiikasta!
URL:https://www.jyfk.fi/tapahtuma/saunaluento-kvarkkiaineen-kokeellinen-tutkimus-cernin-alice-kokeessa/
LOCATION:Nanosauna (YNC330)
END:VEVENT
BEGIN:VEVENT
DTSTART;TZID=Europe/Helsinki:20231008T150000
DTEND;TZID=Europe/Helsinki:20231008T160000
DTSTAMP:20260423T061030
CREATED:20230922T105355Z
LAST-MODIFIED:20230922T105355Z
UID:1584-1696777200-1696780800@www.jyfk.fi
SUMMARY:Liikuntavuoro
DESCRIPTION:Mitä? \n\nJyväskylän fyysikkokerhon liikuntavuoro kerhon jäsenille.\n\nMissä? \n\nKampuksen kentän vieressä olevassa U2-urheiluhallissa.\n\nMilloin?  \n\nSunnuntaisin klo. 15.00 – 16.00.\n\nMiksi?  \n\nKoska liikunta on hyvästä! Vuorolla liikutaan joko pallopelien tai osallistujien toiveiden tahtiin. Lisää tietoa täältä.
URL:https://www.jyfk.fi/tapahtuma/liikuntavuoro-4/
LOCATION:U2-urheiluhalli seminaarinmäellä
END:VEVENT
BEGIN:VEVENT
DTSTART;TZID=Europe/Helsinki:20231007T100000
DTEND;TZID=Europe/Helsinki:20231007T130000
DTSTAMP:20260423T061030
CREATED:20230921T104929Z
LAST-MODIFIED:20230921T104929Z
UID:1565-1696672800-1696683600@www.jyfk.fi
SUMMARY:Fyysikkokerho goes Sippulanniemi
DESCRIPTION:Toivokaa ja toiveisiinne vastataan! Syksyn edetessä parhaisiin väreihinsä järjestämme luontoretken Sippulanniemeen lauantaina 7.10.23 klo.10. Retkelle tervetulleita ovat kaikki jäsenistä fysiikan laitoksen henkilökuntaan. Reitillä ei ole nuotiopaikkaa\, mutta evästauko(ja) kyllä pidetään. Retkelle sopivat vaatteet ja omat eväät mukaan. Lähtöpaikkana toimii Ristikiventien ja Nurmilaukan tien risteyksen vieressä oleva parkkipaikka. \n  \nMitä? Luontoretki Sippulanniemen luontopolulla. \nMissä? Lähtöpaikka Ristikiventien ja Nurmilaukan tien risteyksen parkkipaikalla. \nMilloin? Lauantaina 7.10. klo.10.00 \nMiksi? Koska darrasta raitistuminen tekee hyvää ja värikästä luontoa on kiva katsella!
URL:https://www.jyfk.fi/tapahtuma/fyysikkokerho-goes-sippulanniemi/
END:VEVENT
BEGIN:VEVENT
DTSTART;TZID=Europe/Helsinki:20231006T100000
DTEND;TZID=Europe/Helsinki:20231006T110000
DTSTAMP:20260423T061030
CREATED:20230922T103700Z
LAST-MODIFIED:20230922T103700Z
UID:1570-1696586400-1696590000@www.jyfk.fi
SUMMARY:Fysiikan kollokvio // Physics Colloquium - Danny Porath (Jerusalem): Molecular electronics with DNA towards detection of nucleic acids (tentative)
DESCRIPTION:Fysiikan kollokvio 6.10. Lisää tietoa täällä. \nPhysics colloquium 6.10. More information here.
URL:https://www.jyfk.fi/tapahtuma/fysiikan-kollokvio-physics-colloquium-danny-porath-jerusalem-molecular-electronics-with-dna-towards-detection-of-nucleic-acids-tentative/
LOCATION:FYS1 (YFL230)
CATEGORIES:Kollokvio
END:VEVENT
BEGIN:VEVENT
DTSTART;TZID=Europe/Helsinki:20231001T150000
DTEND;TZID=Europe/Helsinki:20231001T160000
DTSTAMP:20260423T061030
CREATED:20230922T105319Z
LAST-MODIFIED:20230922T105319Z
UID:1581-1696172400-1696176000@www.jyfk.fi
SUMMARY:Liikuntavuoro
DESCRIPTION:Mitä? \n\nJyväskylän fyysikkokerhon liikuntavuoro kerhon jäsenille.\n\nMissä? \n\nKampuksen kentän vieressä olevassa U2-urheiluhallissa.\n\nMilloin?  \n\nSunnuntaisin klo. 15.00 – 16.00.\n\nMiksi?  \n\nKoska liikunta on hyvästä! Vuorolla liikutaan joko pallopelien tai osallistujien toiveiden tahtiin. Lisää tietoa täältä.
URL:https://www.jyfk.fi/tapahtuma/liikuntavuoro-3/
LOCATION:U2-urheiluhalli seminaarinmäellä
END:VEVENT
BEGIN:VEVENT
DTSTART;TZID=Europe/Helsinki:20230924T150000
DTEND;TZID=Europe/Helsinki:20230924T160000
DTSTAMP:20260423T061030
CREATED:20230906T075413Z
LAST-MODIFIED:20230922T104508Z
UID:1555-1695567600-1695571200@www.jyfk.fi
SUMMARY:Liikuntavuoro
DESCRIPTION:Tällä vuorolla pelataan sulkapalloa. \n  \nMitä? \n\nJyväskylän fyysikkokerhon liikuntavuoro kerhon jäsenille.\n\nMissä? \n\nKampuksen kentän vieressä olevassa U2-urheiluhallissa.\n\nMilloin?  \n\nSunnuntaisin klo. 15.00 – 16.00.\n\nMiksi?  \n\nKoska liikunta on hyvästä! Vuorolla liikutaan joko pallopelien tai osallistujien toiveiden tahtiin. Lisää tietoa täältä.
URL:https://www.jyfk.fi/tapahtuma/liikuntavuoro-2/
END:VEVENT
BEGIN:VEVENT
DTSTART;TZID=Europe/Helsinki:20230923T100000
DTEND;TZID=Europe/Helsinki:20230923T140000
DTSTAMP:20260423T061030
CREATED:20230918T104756Z
LAST-MODIFIED:20230919T051428Z
UID:1562-1695463200-1695477600@www.jyfk.fi
SUMMARY:Laskuseuraa
DESCRIPTION:Laskuseuraa tarjolla Piatolla 23.9.2023! Fyysikkokerhon johtokunnan jäsenet tarjoavat lasku-\, lounasseuraa ja apua demojen tekemiseen etenkin fukseille Mattilanniemen Agoralla lauantaina 23.9 klo. 10-14. Tapahtumaan ovat tervetulleita kaikki fukseista vanhuksiin (vaikka apua ei luvata syventäviin opintoihin). \nMitä? Laskuseuraa ja ryhmäpainetta demojen tekemiseen! \nMissä? Mattilanniemessä Agoran Piatossa. \nMilloin? Lauantaina 23.9.2023 klo. 10-14 \nMiksi? Jotta saa demot tehtyä ja halpaa opiskelijahintaista ruokaa niin ei tarvitse kotona laittaa.
URL:https://www.jyfk.fi/tapahtuma/laskuseuraa/
END:VEVENT
BEGIN:VEVENT
DTSTART;TZID=Europe/Helsinki:20230919T160000
DTEND;TZID=Europe/Helsinki:20230919T233000
DTSTAMP:20260423T061030
CREATED:20230905T232513Z
LAST-MODIFIED:20230907T100913Z
UID:1535-1695139200-1695166200@www.jyfk.fi
SUMMARY:Fyysikkokerhon fuksisauna
DESCRIPTION:Fyysikkokerho järjestää uusille opiskelijoille perinteisen fuksisaunan tiistaina 19.9. klo 16 nanosaunalla (YNC330). Saunalla on tarkoitus pelata lautapelejä\, saunoa ja hengailla kerholaisten kesken. Vaikka kyseessä onkin fuksisauna\, ovat paikalle tervetulleita muutkin jäsenet. Lisäksi paikalle on tulossa fysiikan laitoksen johtaja Timo Sajavaara ja muita laitoksen henkilökunnasta\, joten saunalla on myös oiva tilaisuus tutustua vanhempiin fyysikoihin! \nTapahtumassa on tarjolla Fyysikkokerhon puolesta eväitä\, mutta omat juomat sekä pyyhe saunaa varten kannattaa ottaa mukaan. \n  \nTL;DR\nMitä? Saunomista ja lautapelejä hyvässä seurassa (oppm)\nMissä? Nanosaunalla YNC330\nMilloin? Tiistaina 19.9. klo 16 alkaen\nMiksi? Lukuvuoden ensimmäinen saunailta!
URL:https://www.jyfk.fi/tapahtuma/fyysikkokerhon-fuksisauna/
LOCATION:Nanosauna (YNC330)
END:VEVENT
BEGIN:VEVENT
DTSTART;TZID=Europe/Helsinki:20230917T150000
DTEND;TZID=Europe/Helsinki:20230917T160000
DTSTAMP:20260423T061030
CREATED:20230906T075339Z
LAST-MODIFIED:20230906T075339Z
UID:1553-1694962800-1694966400@www.jyfk.fi
SUMMARY:Liikuntavuoro
DESCRIPTION:Mitä? \n\nJyväskylän fyysikkokerhon liikuntavuoro kerhon jäsenille.\n\nMissä? \n\nKampuksen kentän vieressä olevassa U2-urheiluhallissa.\n\nMilloin?  \n\nSunnuntaisin klo. 15.00 – 16.00.\n\nMiksi?  \n\nKoska liikunta on hyvästä! Vuorolla liikutaan joko pallopelien tai osallistujien toiveiden tahtiin. Lisää tietoa täältä.
URL:https://www.jyfk.fi/tapahtuma/liikuntavuoro/
END:VEVENT
BEGIN:VEVENT
DTSTART;TZID=Europe/Helsinki:20230910T150000
DTEND;TZID=Europe/Helsinki:20230910T160000
DTSTAMP:20260423T061030
CREATED:20230906T000032Z
LAST-MODIFIED:20230906T074820Z
UID:1546-1694358000-1694361600@www.jyfk.fi
SUMMARY:Liikuntavuoro
DESCRIPTION:Mitä? \n\nJyväskylän fyysikkokerhon liikuntavuoro kerhon jäsenille.\n\nMissä? \n\nKampuksen kentän vieressä olevassa U2-urheiluhallissa.\n\nMilloin?  \n\nSunnuntaisin klo. 15.00 – 16.00.\n\nMiksi?  \n\nKoska liikunta on hyvästä! Vuorolla liikutaan joko pallopelien tai osallistujien toiveiden tahtiin. Lisää tietoa täältä.
URL:https://www.jyfk.fi/tapahtuma/__trashed-2/
CATEGORIES:Liikuntavuoro
END:VEVENT
END:VCALENDAR